BEGIN:VCALENDAR
VERSION:2.0
PRODID:-//Colorado Professionals in Onsite Wastewater - ECPv6.15.17.1//NONSGML v1.0//EN
CALSCALE:GREGORIAN
METHOD:PUBLISH
X-ORIGINAL-URL:https://www.cpow.net
X-WR-CALDESC:Events for Colorado Professionals in Onsite Wastewater
REFRESH-INTERVAL;VALUE=DURATION:PT1H
X-Robots-Tag:noindex
X-PUBLISHED-TTL:PT1H
BEGIN:VTIMEZONE
TZID:America/Denver
BEGIN:DAYLIGHT
TZOFFSETFROM:-0700
TZOFFSETTO:-0600
TZNAME:MDT
DTSTART:20140309T090000
END:DAYLIGHT
BEGIN:STANDARD
TZOFFSETFROM:-0600
TZOFFSETTO:-0700
TZNAME:MST
DTSTART:20141102T080000
END:STANDARD
BEGIN:DAYLIGHT
TZOFFSETFROM:-0700
TZOFFSETTO:-0600
TZNAME:MDT
DTSTART:20150308T090000
END:DAYLIGHT
BEGIN:STANDARD
TZOFFSETFROM:-0600
TZOFFSETTO:-0700
TZNAME:MST
DTSTART:20151101T080000
END:STANDARD
BEGIN:DAYLIGHT
TZOFFSETFROM:-0700
TZOFFSETTO:-0600
TZNAME:MDT
DTSTART:20160313T090000
END:DAYLIGHT
BEGIN:STANDARD
TZOFFSETFROM:-0600
TZOFFSETTO:-0700
TZNAME:MST
DTSTART:20161106T080000
END:STANDARD
END:VTIMEZONE
BEGIN:VEVENT
DTSTART;TZID=America/Denver:20151022T080000
DTEND;TZID=America/Denver:20151023T170000
DTSTAMP:20260424T002617
CREATED:20150501T201045Z
LAST-MODIFIED:20151013T155740Z
UID:683-1445500800-1445619600@www.cpow.net
SUMMARY:Soils Class - Northern Colorado
DESCRIPTION:Colorado Soil and Site Evaluation Course \nThis course is designed to meet the requirements of the Section 43.5.J.2.c of the newly adopted Regulation #43 for a Competent Technician. \nWe will use class room lecture and field work to learn observation skills for profile holes and using visual and tactile evaluations to identify the soil types and characteristics needed to site and design onsite wastewater treatment systems.  These methods are in accordance with the USDA methodology that has been used across the county. \n\nIdentify soil types by hand texturing and observation\nIdentify presence or absence of soil structure\nIdentify grade of soil structure\nRecognize evidence of highest season water surface\nIdentify layers and interfaces that will interfere with effluent movement\nDetermine the most promising depth for infiltrative surface of OWTS and for percolation tests\nUnderstand basic principles of OWTS siting and design\n\nPassing the course examination will demonstrate competency in the visual and tactile evaluation of soil. \nCertificates of Competency will be provided to participants that pass this exam. \nThe instructors for this course will be:\nWarren Brown\, P.E.\nPublic Health Engineer\nTri County Health Department \nRoy Laws\, P.E.\nJefferson County Public Health\nEnvironmental Health Services Division \n\nClass will be held Thursday\, October 22 from 8am-5pm\, and Friday October 23 from 8am-5pm\n Bagels\, doughnuts\, coffee & tea in the morning and afternoon snacks and lunch will be provided. \n\n  \nRegistration for this Event is almost full. If you wish to register\, please contact Lisa Nicoll\, cpow@nullcpow.net\, and she will let you know if space is still available.
URL:https://www.cpow.net/event/soils-class-northern-colorado/
LOCATION:Weld County Administration Building – Events Room\, 1150 O Steet\, Greely\, CO\, 80631\, United States
ORGANIZER;CN="CPOW":MAILTO:cpow@cpow.net
GEO:40.4510936;-104.6977523
X-APPLE-STRUCTURED-LOCATION;VALUE=URI;X-ADDRESS=Weld County Administration Building – Events Room 1150 O Steet Greely CO 80631 United States;X-APPLE-RADIUS=500;X-TITLE=1150 O Steet:geo:-104.6977523,40.4510936
END:VEVENT
END:VCALENDAR