BEGIN:VCALENDAR
VERSION:2.0
PRODID:-//Colorado Professionals in Onsite Wastewater - ECPv6.15.17.1//NONSGML v1.0//EN
CALSCALE:GREGORIAN
METHOD:PUBLISH
X-WR-CALNAME:Colorado Professionals in Onsite Wastewater
X-ORIGINAL-URL:https://www.cpow.net
X-WR-CALDESC:Events for Colorado Professionals in Onsite Wastewater
REFRESH-INTERVAL;VALUE=DURATION:PT1H
X-Robots-Tag:noindex
X-PUBLISHED-TTL:PT1H
BEGIN:VTIMEZONE
TZID:America/Denver
BEGIN:DAYLIGHT
TZOFFSETFROM:-0700
TZOFFSETTO:-0600
TZNAME:MDT
DTSTART:20240310T090000
END:DAYLIGHT
BEGIN:STANDARD
TZOFFSETFROM:-0600
TZOFFSETTO:-0700
TZNAME:MST
DTSTART:20241103T080000
END:STANDARD
BEGIN:DAYLIGHT
TZOFFSETFROM:-0700
TZOFFSETTO:-0600
TZNAME:MDT
DTSTART:20250309T090000
END:DAYLIGHT
BEGIN:STANDARD
TZOFFSETFROM:-0600
TZOFFSETTO:-0700
TZNAME:MST
DTSTART:20251102T080000
END:STANDARD
BEGIN:DAYLIGHT
TZOFFSETFROM:-0700
TZOFFSETTO:-0600
TZNAME:MDT
DTSTART:20260308T090000
END:DAYLIGHT
BEGIN:STANDARD
TZOFFSETFROM:-0600
TZOFFSETTO:-0700
TZNAME:MST
DTSTART:20261101T080000
END:STANDARD
END:VTIMEZONE
BEGIN:VEVENT
DTSTART;TZID=America/Denver:20250424T080000
DTEND;TZID=America/Denver:20250425T170000
DTSTAMP:20260423T100620
CREATED:20191021T211827Z
LAST-MODIFIED:20250110T172459Z
UID:1972-1745481600-1745600400@www.cpow.net
SUMMARY:NAWT Inspector Course - April 2025 - Trinidad\, CO & Online
DESCRIPTION:*WE ARE PROVIDING BOTH AN IN-PERSON AND ONLINE OPTION TO TAKE THIS COURSE* \n  \nThe Inspector class is a nationally recognized Onsite Wastewater Treatment System (OWTS) class developed to provide training\, testing and certification for individuals conducting OWTS inspections for property transfers\, system functionality and county or homeowner association requirements. Day one covers the basics of OWTS their purpose and functionality. Day two covers the NAWT protocol on how to complete an inspection for all systems from the basic gravity fed systems through systems with advanced treatment. The NAWT level of inspection is the Operations Level. Identifying all parts and components and assessing their condition and identify deficiencies. This is the generally accepted course that state and county health departments use for their certification requirements for individuals operating as OWTS Inspectors. \n  \nIn-Person Course Cost: \n2-day Attendance (Full Certification): $360 for CPOW members and $460 for Non-Members. \n1-Day Attendance (Certificate Renewal): $285 for CPOW Members & $385 for Non-Members. \n  \nIN-PERSON LOCATION: \n\nTrinidad Community Center\n\n1309 Beshoar Avenue\nTrinidad\, CO 81082\n\n\n\n  \nONLINE Course Cost: \n2-day Attendance (Full Certification): $295 for CPOW members and $395 for Non-Members. \n1-Day Attendance (Certificate Renewal): $195 for CPOW Members & $295 for Non-Members \n*The Online option is provided through Zoom.  \n  \n*Please note that each registration includes ONE (1) NAWT Certificate or Renewal\, and any additional requested renewals are $75/each. \nYou must have a 2025 CPOW membership to receive member pricing. \n  \nRegistration is now available for the course: \nFor the IN-PERSON Course Registration\, please click HERE to register. \n*REGISTRATION FOR THE IN-PERSON OPTION WILL CLOSE AT 5:00PM MDT ON MONDAY\, APRIL 21ST OR WHEN THE COURSE REACHES CAPACITY\, WHICHEVER OCCURS FIRST* \n  \nFor the ONLINE Course Registration\, please click HERE to register. \n*REGISTRATION FOR THE ONLINE OPTION WILL CLOSE AT 5:00PM MDT ON TUESDAY\, APRIL 22ND* \n  \nYou can also email Lisa Nicoll at cpow@nullcpow.net and include the registrant(s) Name\, any applicable Company Name\, Mailing Address\, and Phone Number. \n  \n*NAWT Certificates require 8 CEU hours every 2 years to remain current. NAWT CEU hours can be obtained by attending any NAWT-approved course or event.* \n  \nCPOW EXAM POLICY: \n\nIf the exam is not passed during the first attempt\, a second attempt will be allowed\, and will be scheduled after the first attempt. If the second attempt does not result in a passing score\, or if the rescheduled exam date is missed with no notification\, the participant will need to re-take the full course again\, but at the Audit/Observe rate ($210) due to the certification being paid for with the first registration. The registration for the next class will provide for two additional attempts to take the exam to obtain a passing grade.
URL:https://www.cpow.net/event/nawt-inspector-course-april-2025/
LOCATION:Trinidad Community Center\, 1309 Beshoar Ave\, Trinidad\, CO\, 81082\, United States
CATEGORIES:Training
ORGANIZER;CN="CPOW":MAILTO:cpow@cpow.net
END:VEVENT
END:VCALENDAR