BEGIN:VCALENDAR
VERSION:2.0
PRODID:-//Colorado Professionals in Onsite Wastewater - ECPv6.15.17.1//NONSGML v1.0//EN
CALSCALE:GREGORIAN
METHOD:PUBLISH
X-WR-CALNAME:Colorado Professionals in Onsite Wastewater
X-ORIGINAL-URL:https://www.cpow.net
X-WR-CALDESC:Events for Colorado Professionals in Onsite Wastewater
REFRESH-INTERVAL;VALUE=DURATION:PT1H
X-Robots-Tag:noindex
X-PUBLISHED-TTL:PT1H
BEGIN:VTIMEZONE
TZID:America/Denver
BEGIN:DAYLIGHT
TZOFFSETFROM:-0700
TZOFFSETTO:-0600
TZNAME:MDT
DTSTART:20130310T090000
END:DAYLIGHT
BEGIN:STANDARD
TZOFFSETFROM:-0600
TZOFFSETTO:-0700
TZNAME:MST
DTSTART:20131103T080000
END:STANDARD
BEGIN:DAYLIGHT
TZOFFSETFROM:-0700
TZOFFSETTO:-0600
TZNAME:MDT
DTSTART:20140309T090000
END:DAYLIGHT
BEGIN:STANDARD
TZOFFSETFROM:-0600
TZOFFSETTO:-0700
TZNAME:MST
DTSTART:20141102T080000
END:STANDARD
BEGIN:DAYLIGHT
TZOFFSETFROM:-0700
TZOFFSETTO:-0600
TZNAME:MDT
DTSTART:20150308T090000
END:DAYLIGHT
BEGIN:STANDARD
TZOFFSETFROM:-0600
TZOFFSETTO:-0700
TZNAME:MST
DTSTART:20151101T080000
END:STANDARD
END:VTIMEZONE
BEGIN:VEVENT
DTSTART;TZID=America/Denver:20141109T080000
DTEND;TZID=America/Denver:20141112T170000
DTSTAMP:20260424T020044
CREATED:20140319T140629Z
LAST-MODIFIED:20140819T010848Z
UID:408-1415520000-1415811600@www.cpow.net
SUMMARY:NOWRA/CPOW Annual Education Conference
DESCRIPTION:NOWRA CONFERENCE INCENTIVE (A CPOW Member Benefit) \nCPOW members attending the November NOWRA Conference in Denver will receive $50.00 off of their 2015 CPOW membership.  To be eligible for this CPOW Member benefit you must: \n\nbe a current CPOW member\npay the NOWRA Conference registration fee\nsubmit your 2015 membership application and fee prior to December 31\, 2014\n\nPlease note that the NOWRA Conference registration fee will increase by $100 for registrations received after October 20\, 2014. As a CPOW Member\, you are also a member of NOWRA\, so take advantage of your joint CPOW/NOWRA membership and register for the NOWRA Conference for only $249 before early registration ends on October 20\, 2014.  For more information regarding this CPOW Member benefit\, please contact Lisa Nicol\, 720-626-8989 or email at cpow@nullcpow.net. \n  \nCLICK HERE to register for the NOWRA conference.
URL:https://www.cpow.net/event/nowracpow-annual-education-conference/
LOCATION:The Westin Westminster\, 10600 Westminster Blvd\, Westminster\, CO\, Westminster\, 80020\, United States
CATEGORIES:Conference
GEO:39.8905742;-105.0656866
X-APPLE-STRUCTURED-LOCATION;VALUE=URI;X-ADDRESS=The Westin Westminster 10600 Westminster Blvd Westminster CO Westminster 80020 United States;X-APPLE-RADIUS=500;X-TITLE=10600 Westminster Blvd\, Westminster\, CO:geo:-105.0656866,39.8905742
END:VEVENT
END:VCALENDAR