BEGIN:VCALENDAR
VERSION:2.0
PRODID:-//Colorado Professionals in Onsite Wastewater - ECPv6.15.17.1//NONSGML v1.0//EN
CALSCALE:GREGORIAN
METHOD:PUBLISH
X-ORIGINAL-URL:https://www.cpow.net
X-WR-CALDESC:Events for Colorado Professionals in Onsite Wastewater
REFRESH-INTERVAL;VALUE=DURATION:PT1H
X-Robots-Tag:noindex
X-PUBLISHED-TTL:PT1H
BEGIN:VTIMEZONE
TZID:America/Denver
BEGIN:DAYLIGHT
TZOFFSETFROM:-0700
TZOFFSETTO:-0600
TZNAME:MDT
DTSTART:20240310T090000
END:DAYLIGHT
BEGIN:STANDARD
TZOFFSETFROM:-0600
TZOFFSETTO:-0700
TZNAME:MST
DTSTART:20241103T080000
END:STANDARD
BEGIN:DAYLIGHT
TZOFFSETFROM:-0700
TZOFFSETTO:-0600
TZNAME:MDT
DTSTART:20250309T090000
END:DAYLIGHT
BEGIN:STANDARD
TZOFFSETFROM:-0600
TZOFFSETTO:-0700
TZNAME:MST
DTSTART:20251102T080000
END:STANDARD
BEGIN:DAYLIGHT
TZOFFSETFROM:-0700
TZOFFSETTO:-0600
TZNAME:MDT
DTSTART:20260308T090000
END:DAYLIGHT
BEGIN:STANDARD
TZOFFSETFROM:-0600
TZOFFSETTO:-0700
TZNAME:MST
DTSTART:20261101T080000
END:STANDARD
END:VTIMEZONE
BEGIN:VEVENT
DTSTART;TZID=America/Denver:20250626T080000
DTEND;TZID=America/Denver:20250627T170000
DTSTAMP:20260423T162944
CREATED:20211026T163233Z
LAST-MODIFIED:20250206T194358Z
UID:3220-1750924800-1751043600@www.cpow.net
SUMMARY:CPOW OWTS Design Class - Online Modules + In-Person Instruction - June 2025
DESCRIPTION:CPOW OWTS DESIGN COURSE\nOnline Modules ($310) + In-Person Instruction ($295) \nTOTAL CPOW MEMBER COST: $605 \n*YOU MUST BE A CPOW MEMBER TO REGISTER FOR THIS CLASS* \n*THE CPOW SOILS COURSE IS A PRE-REQUISITE FOR THIS CLASS* If you have not attended the CPOW Soils Course previously\, and do not have a Certificate of Completion from the class\, you will not be able to attend this course. Please check the CPOW Events webpage for the next available CPOW Soils Course. \nThe CPOW OWTS Design Course is a completely updated course that was developed in response to the growing needs for a Colorado-specific\, comprehensive\, design course. The course is a hybrid of online modules\, created by both CPOW and NOWRA\, followed by a two-day\, in-person classroom instruction with a field component. *The online modules are to be completed prior to attending the in-person portion.* The course presents science based principles of design\, while including practical applications using the Colorado Department of Public Health and Environment Regulation 43 On-site Wastewater Treatment Systems requirements. In addition to being a useful course for Designers\, other industry professionals\, such as Regulators\, Installers\, and Service Providers can benefit from the course. There will be an exam at the completion of the course. A passing score is required to receive a CPOW completion certificate. \nInstructors: \n\nKate Carney\, PE – Church Onsite Wastewater Consultants\nMatt Hopkins – 285 Engineering\n\nIn-Person Course Dates: \n\nJune 26 & 27\, 2025\n\nIn-Person Course Location: \n\n\n\n3482 Broadway\, Boulder\, CO 80304\n\nBaltic Conference Room located in the Sundquist Building.\n\n\n\n\n\nREQUIRED REGISTRATION FOR THE ONLINE MODULES CAN BE ACCESSED HERE. \n*YOU WILL NEED TO CREATE A USER PROFILE FOR THE NOWRA ONLINE LEARNING PLATFORM TO OBTAIN ACCESS TO THE DESIGN MODULES. PLEASE NOTE THAT MEMBER ACCESS TO THE ONLINE MODULES CAN TAKE 1-3 BUSINESS DAYS AFTER REGISTERING YOUR PROFILE ON THE NOWRA PLATFORM* PURCHASING THE MODULES PRIOR TO YOUR MEMBER PROFILE BEING APPROVED WILL RESULT IN PAYING THE NON-MEMBER PRICE ($495) FOR THE BUNDLE. If you do not already have a NOWRA Platform Profile\, you can create a User Profile HERE\, just select “Sign-Up” under the login box. Your User Profile will be confirmed within 1-3 business days\, and you’ll be able to purchase the CPOW Design Modules at the Member Price. If you have any questions or concerns\, please contact Lisa Nicoll\, cpow@nullcpow.net. \nONLINE MODULE COST: $310 for 11.5 hours of online module learning. \n\nCPOW Specific Design Material – 2.0 Hours\n\nHistory of OWTS Design\nLife Cycle Analysis\nInstallation Inspections\n\n\nWastewater Characteristics – 1.0 Hour\nDesign: Septic Tanks – 1.0 Hour\nUnderstanding Tank Buoyancy – 1.0 Hour\nDesign: Aerobic Treatment Units – 1.5 Hours\nDesign: Intro to Nitrogen Removal – 1.0 Hour\nDesign: Drip Distribution – 2.0 Hours\nMedia Filters – 1.0 Hour\nFate & Transport – 1.0 Hour\nDesign: Time Dosing & Flow Equalization – 1.0 Hour\n\n*You will register for and complete the online modules at the website linked above. These online modules must be completed by June 24th\, BEFORE attending the In-Person instruction. Failure to complete the Online Modules by June 24th may result in dismissal from the In-Person Instruction* \nTWO-DAY IN-PERSON INSTRUCTION COST: $295 for CPOW members \n*You must be a CPOW Member to attend this class. If you do NOT have a current 2025 CPOW Membership and do not select to add a 2025 Membership during the registration process\, you will be invoiced accordingly for a 2025 CPOW Membership.* \nOnline registration is now available for the In-Person Instruction. Please click HERE to access the In-Person Instruction Registration. You can also email Lisa Nicoll at cpow@nullcpow.net and include the registrant(s) Name\, any applicable Company Name\, Mailing Address\, and Phone Number. \n*REGISTRATION FOR THE IN-PERSON INSTRUCTION WILL CLOSE AT 5:00PM MDT ON MONDAY\, JUNE 23RD OR WHEN THE COURSE REACHES CAPACITY\, WHICHEVER OCCURS FIRST* \n*This class is being offered as an option to also obtain the NAWT Design Certification. If you wish to obtain the NAWT Design Certificate\, you will need to select the corresponding option during registration and the additional $100 will be included in your registration costs. *YOU DO NOT HAVE TO TAKE THE NAWT DESIGN EXAM AFTER THE IN-PERSON INSTRUCTION TO OBTAIN THE NAWT DESIGN CERTIFICATION* \nINSTRUCTORS: \nKate Carney\, P.E.\nOwner\, Church Onsite Wastewater Consultants. LLC.\nKate Carney earned a Bachelor of Science Degree in Biological Sciences from Missouri University of Science and Technology and a Master of Science degree in Environmental Science and Engineering from the Colorado School of Mines. Kate has experience in soil/ site evaluations as well as the design of residential and commercial on site wastewater treatment systems. She is a Registered Professional Engineer in Colorado. Katie is the current Executive Director of CPOW. \nMatt Hopkins\nProject Geologist/Buena Vista Office Manager\, 285 Engineering.\nMatthew has worked in the Geotechnical Engineering industry for over 20 years. He earned his Bachelor of Science Degree from West Virginia University in 2000. He currently specializes in OWTS design and manages geotechnical\, environmental\, and wetlands projects. Matt has designed over a thousand onsite wastewater systems in Colorado over a wide range of counties. Design of these systems in challenging mountainous terrain is one of his specialties. He has been a participating member of CPOW since 2015 and served on the board as president.
URL:https://www.cpow.net/event/cpow-design-course-june-2025/
LOCATION:Sundquist Building – Baltic Conference Room (Boulder County)\, 3482 Broadway\, Boulder\, CO\, 80304\, United States
CATEGORIES:Training
ORGANIZER;CN="CPOW":MAILTO:cpow@cpow.net
END:VEVENT
END:VCALENDAR