BEGIN:VCALENDAR
VERSION:2.0
PRODID:-//Colorado Professionals in Onsite Wastewater - ECPv6.15.17.1//NONSGML v1.0//EN
CALSCALE:GREGORIAN
METHOD:PUBLISH
X-WR-CALNAME:Colorado Professionals in Onsite Wastewater
X-ORIGINAL-URL:https://www.cpow.net
X-WR-CALDESC:Events for Colorado Professionals in Onsite Wastewater
REFRESH-INTERVAL;VALUE=DURATION:PT1H
X-Robots-Tag:noindex
X-PUBLISHED-TTL:PT1H
BEGIN:VTIMEZONE
TZID:America/Denver
BEGIN:DAYLIGHT
TZOFFSETFROM:-0700
TZOFFSETTO:-0600
TZNAME:MDT
DTSTART:20130310T090000
END:DAYLIGHT
BEGIN:STANDARD
TZOFFSETFROM:-0600
TZOFFSETTO:-0700
TZNAME:MST
DTSTART:20131103T080000
END:STANDARD
BEGIN:DAYLIGHT
TZOFFSETFROM:-0700
TZOFFSETTO:-0600
TZNAME:MDT
DTSTART:20140309T090000
END:DAYLIGHT
BEGIN:STANDARD
TZOFFSETFROM:-0600
TZOFFSETTO:-0700
TZNAME:MST
DTSTART:20141102T080000
END:STANDARD
BEGIN:DAYLIGHT
TZOFFSETFROM:-0700
TZOFFSETTO:-0600
TZNAME:MDT
DTSTART:20150308T090000
END:DAYLIGHT
BEGIN:STANDARD
TZOFFSETFROM:-0600
TZOFFSETTO:-0700
TZNAME:MST
DTSTART:20151101T080000
END:STANDARD
END:VTIMEZONE
BEGIN:VEVENT
DTSTART;VALUE=DATE:20140924
DTEND;VALUE=DATE:20140927
DTSTAMP:20260424T033926
CREATED:20140322T222151Z
LAST-MODIFIED:20140324T160851Z
UID:424-1411516800-1411775999@www.cpow.net
SUMMARY:Colorado Environmental Health Association (CEHA) AEC
DESCRIPTION:The Colorado Environmental Health Association will be holding their Annual Education Conference in Steamboat Springs\, CO this year. \nClick here for more information
URL:https://www.cpow.net/event/colorado-environmental-health-association-ceha-aec/
LOCATION:Steamboat Grand\, 2300 Mt Werner Cir\, Steamboat Springs\, 80487
GEO:40.4586596;-106.8067367
X-APPLE-STRUCTURED-LOCATION;VALUE=URI;X-ADDRESS=Steamboat Grand 2300 Mt Werner Cir Steamboat Springs 80487;X-APPLE-RADIUS=500;X-TITLE=2300 Mt Werner Cir:geo:-106.8067367,40.4586596
END:VEVENT
END:VCALENDAR