BEGIN:VCALENDAR
VERSION:2.0
PRODID:-//Colorado Professionals in Onsite Wastewater - ECPv6.15.17.1//NONSGML v1.0//EN
CALSCALE:GREGORIAN
METHOD:PUBLISH
X-ORIGINAL-URL:https://www.cpow.net
X-WR-CALDESC:Events for Colorado Professionals in Onsite Wastewater
REFRESH-INTERVAL;VALUE=DURATION:PT1H
X-Robots-Tag:noindex
X-PUBLISHED-TTL:PT1H
BEGIN:VTIMEZONE
TZID:America/Denver
BEGIN:DAYLIGHT
TZOFFSETFROM:-0700
TZOFFSETTO:-0600
TZNAME:MDT
DTSTART:20150308T090000
END:DAYLIGHT
BEGIN:STANDARD
TZOFFSETFROM:-0600
TZOFFSETTO:-0700
TZNAME:MST
DTSTART:20151101T080000
END:STANDARD
BEGIN:DAYLIGHT
TZOFFSETFROM:-0700
TZOFFSETTO:-0600
TZNAME:MDT
DTSTART:20160313T090000
END:DAYLIGHT
BEGIN:STANDARD
TZOFFSETFROM:-0600
TZOFFSETTO:-0700
TZNAME:MST
DTSTART:20161106T080000
END:STANDARD
BEGIN:DAYLIGHT
TZOFFSETFROM:-0700
TZOFFSETTO:-0600
TZNAME:MDT
DTSTART:20170312T090000
END:DAYLIGHT
BEGIN:STANDARD
TZOFFSETFROM:-0600
TZOFFSETTO:-0700
TZNAME:MST
DTSTART:20171105T080000
END:STANDARD
END:VTIMEZONE
BEGIN:VEVENT
DTSTART;TZID=America/Denver:20161117T080000
DTEND;TZID=America/Denver:20161118T170000
DTSTAMP:20260423T233016
CREATED:20140625T193041Z
LAST-MODIFIED:20161114T165640Z
UID:476-1479369600-1479488400@www.cpow.net
SUMMARY:NAWT Inspector Training - 2016
DESCRIPTION:The Inspector class is a nationally recognized Onsite Wastewater Treatment System (OWTS) class developed to provide training\, testing and certification for individuals conducting OWTS inspections for property transfers\, system functionality and county or homeowner association requirements. Day one covers the basics of OWTS their purpose and functionality. Day two covers the NAWT protocol on how to complete an inspection for all systems from the basic gravity fed systems through systems with advanced treatment. The NAWT level of inspection is the Operations Level. Identifying all parts and components and assessing their condition and identify deficiencies. This is the generally accepted course that state and county health departments use for their certification requirements for individuals operating as OWTS Inspectors. \nRegister below or contact Lisa Nicoll at 720-626-8989 or email cpow@nullcpow.net \nREGISTRATION IS NOW CLOSED FOR THIS CLASS. 
URL:https://www.cpow.net/event/nawt-inspector-training/
LOCATION:Sheraton Denver West Hotel\, 360 Union Blvd\, Lakewood\, CO\, 80223
ORGANIZER;CN="CPOW":MAILTO:cpow@cpow.net
GEO:39.7217002;-105.1315096
X-APPLE-STRUCTURED-LOCATION;VALUE=URI;X-ADDRESS=Sheraton Denver West Hotel 360 Union Blvd Lakewood CO 80223;X-APPLE-RADIUS=500;X-TITLE=360 Union Blvd:geo:-105.1315096,39.7217002
END:VEVENT
END:VCALENDAR