BEGIN:VCALENDAR
VERSION:2.0
PRODID:-//Colorado Professionals in Onsite Wastewater - ECPv6.15.17.1//NONSGML v1.0//EN
CALSCALE:GREGORIAN
METHOD:PUBLISH
X-WR-CALNAME:Colorado Professionals in Onsite Wastewater
X-ORIGINAL-URL:https://www.cpow.net
X-WR-CALDESC:Events for Colorado Professionals in Onsite Wastewater
REFRESH-INTERVAL;VALUE=DURATION:PT1H
X-Robots-Tag:noindex
X-PUBLISHED-TTL:PT1H
BEGIN:VTIMEZONE
TZID:America/Denver
BEGIN:DAYLIGHT
TZOFFSETFROM:-0700
TZOFFSETTO:-0600
TZNAME:MDT
DTSTART:20240310T090000
END:DAYLIGHT
BEGIN:STANDARD
TZOFFSETFROM:-0600
TZOFFSETTO:-0700
TZNAME:MST
DTSTART:20241103T080000
END:STANDARD
BEGIN:DAYLIGHT
TZOFFSETFROM:-0700
TZOFFSETTO:-0600
TZNAME:MDT
DTSTART:20250309T090000
END:DAYLIGHT
BEGIN:STANDARD
TZOFFSETFROM:-0600
TZOFFSETTO:-0700
TZNAME:MST
DTSTART:20251102T080000
END:STANDARD
BEGIN:DAYLIGHT
TZOFFSETFROM:-0700
TZOFFSETTO:-0600
TZNAME:MDT
DTSTART:20260308T090000
END:DAYLIGHT
BEGIN:STANDARD
TZOFFSETFROM:-0600
TZOFFSETTO:-0700
TZNAME:MST
DTSTART:20261101T080000
END:STANDARD
END:VTIMEZONE
BEGIN:VEVENT
DTSTART;TZID=America/Denver:20251010T080000
DTEND;TZID=America/Denver:20251010T170000
DTSTAMP:20260423T163006
CREATED:20201208T154431Z
LAST-MODIFIED:20251007T163158Z
UID:2486-1760083200-1760115600@www.cpow.net
SUMMARY:NAWT Installer 1 Course - October 2025 (Saguache\, CO & Online)
DESCRIPTION:*WE ARE PROVIDING BOTH AN IN-PERSON AND ONLINE OPTION TO TAKE THIS COURSE* \nThe Installer 1 session will cover the basics of what an installer would need to know about OWTS installation. The course covers an introduction of what an Onsite Wastewater Treatment System (OWTS) is\, while helping the installer understand the importance of completing the installation correctly and in accordance with state and county regulations and the design. Contractor safety will be discussed as it relates to installation practices. The following topics will be emphasized during the presentations: Installation techniques and materials\, the steps involved in planning an OWTS installation project\, as well as a discussion of the different components that make up an OWTS. This course is designed to meet the needs of any individual interested in what goes into completing an OWTS installation whether they have been a contractor for many years or new to this type of work. \n  \nIn-Person Course Cost: \n1-Day Attendance: $285 for CPOW Members & $385 for Non-Members. \nIn-Person Location: \n\nRoad & Bridge Meeting Room\n\n305 3rd Street\, Saguache\, CO 81149\n\n\n\n  \nONLINE Course Cost: \n1-Day Attendance : $195 for CPOW Members & $295 for Non-Members \n*The Online option is provided through Zoom.  \n  \n*Please note that each registration includes ONE (1) NAWT Certificate or Renewal\, and any additional requested renewals are $100/each. \nYou must have a 2025 CPOW membership to receive member pricing. \n  \nRegistration is now available for the course: \nFor the IN-PERSON Course Registration\, please click HERE to register. \n*REGISTRATION FOR THE IN-PERSON OPTION WILL CLOSE AT 5:00PM MDT ON MONDAY\, OCTOBER 6TH OR WHEN THE COURSE REACHES CAPACITY\, WHICHEVER OCCURS FIRST* \n  \nFor the ONLINE Course Registration\, please click HERE to register. \n*REGISTRATION FOR THE ONLINE OPTION WILL CLOSE AT 5:00PM MDT ON WEDNESDAY\, OCTOBER 8TH* \n  \nYou can also email Lisa Nicoll at cpow@nullcpow.net and include the registrant(s) Name\, any applicable Company Name\, Mailing Address\, and Phone Number. \n  \n*NAWT Certificates require 8 CEU hours every 2 years to remain current. NAWT CEU hours can be obtained by attending any NAWT-approved course or event.* \n  \nCPOW EXAM POLICY: \n\nIf the exam is not passed during the first attempt\, a second attempt will be allowed\, and will be scheduled after the first attempt. If the second attempt does not result in a passing score\, or if the rescheduled exam date is missed with no notification\, the participant will need to re-take the full course again\, but at the Audit/Observe rate ($210) due to the certification being paid for with the first registration. The registration for the next class will provide for two additional attempts to take the exam to obtain a passing grade.
URL:https://www.cpow.net/event/nawt-installer1-course-october-2025/
LOCATION:Road and Bridge Meeting Room – Saguache County\, 305 3rd St\, Saguache\, CO\, 81149\, United States
CATEGORIES:Training
ORGANIZER;CN="CPOW":MAILTO:cpow@cpow.net
END:VEVENT
END:VCALENDAR