BEGIN:VCALENDAR
VERSION:2.0
PRODID:-//Colorado Professionals in Onsite Wastewater - ECPv6.15.17.1//NONSGML v1.0//EN
CALSCALE:GREGORIAN
METHOD:PUBLISH
X-WR-CALNAME:Colorado Professionals in Onsite Wastewater
X-ORIGINAL-URL:https://www.cpow.net
X-WR-CALDESC:Events for Colorado Professionals in Onsite Wastewater
REFRESH-INTERVAL;VALUE=DURATION:PT1H
X-Robots-Tag:noindex
X-PUBLISHED-TTL:PT1H
BEGIN:VTIMEZONE
TZID:America/Denver
BEGIN:DAYLIGHT
TZOFFSETFROM:-0700
TZOFFSETTO:-0600
TZNAME:MDT
DTSTART:20200308T090000
END:DAYLIGHT
BEGIN:STANDARD
TZOFFSETFROM:-0600
TZOFFSETTO:-0700
TZNAME:MST
DTSTART:20201101T080000
END:STANDARD
BEGIN:DAYLIGHT
TZOFFSETFROM:-0700
TZOFFSETTO:-0600
TZNAME:MDT
DTSTART:20210314T090000
END:DAYLIGHT
BEGIN:STANDARD
TZOFFSETFROM:-0600
TZOFFSETTO:-0700
TZNAME:MST
DTSTART:20211107T080000
END:STANDARD
BEGIN:DAYLIGHT
TZOFFSETFROM:-0700
TZOFFSETTO:-0600
TZNAME:MDT
DTSTART:20220313T090000
END:DAYLIGHT
BEGIN:STANDARD
TZOFFSETFROM:-0600
TZOFFSETTO:-0700
TZNAME:MST
DTSTART:20221106T080000
END:STANDARD
BEGIN:DAYLIGHT
TZOFFSETFROM:-0700
TZOFFSETTO:-0600
TZNAME:MDT
DTSTART:20230312T090000
END:DAYLIGHT
BEGIN:STANDARD
TZOFFSETFROM:-0600
TZOFFSETTO:-0700
TZNAME:MST
DTSTART:20231105T080000
END:STANDARD
BEGIN:DAYLIGHT
TZOFFSETFROM:-0700
TZOFFSETTO:-0600
TZNAME:MDT
DTSTART:20240310T090000
END:DAYLIGHT
BEGIN:STANDARD
TZOFFSETFROM:-0600
TZOFFSETTO:-0700
TZNAME:MST
DTSTART:20241103T080000
END:STANDARD
BEGIN:DAYLIGHT
TZOFFSETFROM:-0700
TZOFFSETTO:-0600
TZNAME:MDT
DTSTART:20250309T090000
END:DAYLIGHT
BEGIN:STANDARD
TZOFFSETFROM:-0600
TZOFFSETTO:-0700
TZNAME:MST
DTSTART:20251102T080000
END:STANDARD
BEGIN:DAYLIGHT
TZOFFSETFROM:-0700
TZOFFSETTO:-0600
TZNAME:MDT
DTSTART:20260308T090000
END:DAYLIGHT
BEGIN:STANDARD
TZOFFSETFROM:-0600
TZOFFSETTO:-0700
TZNAME:MST
DTSTART:20261101T080000
END:STANDARD
END:VTIMEZONE
BEGIN:VEVENT
DTSTART;TZID=America/Denver:20250110T080000
DTEND;TZID=America/Denver:20250110T170000
DTSTAMP:20260423T210633
CREATED:20211026T162747Z
LAST-MODIFIED:20241028T172322Z
UID:3215-1736496000-1736528400@www.cpow.net
SUMMARY:NAWT ONLINE Installer 1 Course - January 2025
DESCRIPTION:THIS COURSE IS BEING OFFERED ONLINE. \nThe Installer 1 session will cover the basics of what an installer would need to know about OWTS installation. The course covers an introduction of what an Onsite Wastewater Treatment System (OWTS) is\, while helping the installer understand the importance of completing the installation correctly and in accordance with state and county regulations and the design.  Contractor safety will be discussed as it relates to installation practices.  The following topics will be emphasized during the presentations: Installation techniques and materials\, the steps involved in planning an OWTS installation project\, as well as a discussion of the different components that make up an OWTS. This course is designed to meet the needs of any individual interested in what goes into completing an OWTS installation whether they have been a contractor for many years or new to this type of work. \n  \nONLINE Course Cost: \n$195 for CPOW Members & $295 for Non-Members \n*Please note that each registration includes ONE (1) NAWT Certificate or Renewal\, and any additional requested renewals are $75/each. \nYou must have a 2025 CPOW membership to receive member pricing \n  \nOnline registration is now available for the course. Please click HERE to access the ONLINE Course Registration. You can also email Lisa Nicoll at cpow@nullcpow.net and include the registrant(s) Name\, any applicable Company Name\, Mailing Address\, and Phone Number. \n*Online Registration Ends at Wednesday\, January 8\, 2025\, 5:00 PM* \n  \n*NAWT Certificates require 8 CEU hours every 2 years to remain current. NAWT CEU hours can be obtained by attending any NAWT-approved course or event.* \n  \nCPOW EXAM POLICY: \n\nIf the exam is not passed during the first attempt\, a second attempt will be allowed\, and will be scheduled after the first attempt. If the second attempt does not result in a passing score\, or if the rescheduled exam date is missed with no notification\, the participant will need to re-take the full course again\, but at the Audit/Observe rate due to the certification being paid for with the first registration. The registration for the next class will provide for two additional attempts to take the exam to obtain a passing grade.\n\n 
URL:https://www.cpow.net/event/nawt-installer1-course-jan-2025/
LOCATION:Online
CATEGORIES:Training
ORGANIZER;CN="CPOW":MAILTO:cpow@cpow.net
END:VEVENT
BEGIN:VEVENT
DTSTART;TZID=America/Denver:20240118T080000
DTEND;TZID=America/Denver:20240119T170000
DTSTAMP:20260423T210633
CREATED:20210311T170842Z
LAST-MODIFIED:20240103T165308Z
UID:2848-1705564800-1705683600@www.cpow.net
SUMMARY:NAWT ONLINE Design Course - January 2024
DESCRIPTION:THIS COURSE IS BEING HELD ONLINE.  \nThe NAWT OWTS Designer Training Course has been developed in response to requests for a design class from counties across the United States. This is a principles based design class\, not a regulations based class. The class presents sound\, science based principles of design\, which are applicable in health jurisdictions throughout the country. It is the responsibility of the designer to understand the local health jurisdiction regulations\, and properly apply the principles taught in the class. The class will cover the full range of tasks associated with the design of an OWTS\, including evaluation of existing documentation\, site evaluation\, subsurface investigation\, soils review segment\, creating sound design documents and the principles of design for gravity systems\, pumped systems\, mound systems and non-pressurized drip dispersal systems\, formerly called Colorado Low Pressure Drip. Attendees will learn about OWTS principles of operation\, tanks\, piping\, pumps and system access. \nExamples from the new Colorado Regulation 43 will be provided to illustrate how the local regulations have changed. \nCost: \n2-day Attendance (Full Certification): $295 for CPOW members and $395 for Non-Members. \n1-Day Attendance (Certificate Renewal): $195 for CPOW Members & $295 for Non-Members. \n*Please note that each registration includes ONE (1) NAWT Certificate or Renewal\, and any additional requested renewals are $75/each. \nYou must have a 2024 CPOW membership to receive member pricing. \n  \nOnline registration is now available for the course. Please click HERE for the 1-day Course Registration\, and click HERE for the 2-day Course Registration. You can also email Lisa Nicoll at cpow@nullcpow.net and include the registrant(s) Name\, any applicable Company Name\, Mailing Address\, and Phone Number. \n  \n*NAWT Certificates require 8 CEU hours every 2 years to remain current. NAWT CEU hours can be obtained by attending any NAWT-approved course or event.* \n  \nCPOW EXAM POLICY: \n\nIf the exam is not passed during the first attempt\, a second attempt will be allowed\, and will be scheduled after the first attempt. If the second attempt does not result in a passing score\, or if the rescheduled exam date is missed with no notification\, the participant will need to re-take the full course again\, but at the Audit/Observe rate ($210) due to the certification being paid for with the first registration. The registration for the next class will provide for two additional attempts to take the exam to obtain a passing grade.
URL:https://www.cpow.net/event/nawt-owts-design-course-jan2024/
LOCATION:Online
CATEGORIES:Training
ORGANIZER;CN="CPOW":MAILTO:cpow@cpow.net
END:VEVENT
BEGIN:VEVENT
DTSTART;TZID=America/Denver:20231026T080000
DTEND;TZID=America/Denver:20231027T170000
DTSTAMP:20260423T210633
CREATED:20181025T171516Z
LAST-MODIFIED:20231016T222436Z
UID:1799-1698307200-1698426000@www.cpow.net
SUMMARY:NAWT Inspector Course - October 2023
DESCRIPTION:THIS COURSE IS NOW BEING HELD ONLINE.  \nThe Inspector class is a nationally recognized Onsite Wastewater Treatment System (OWTS) class developed to provide training\, testing and certification for individuals conducting OWTS inspections for property transfers\, system functionality and county or homeowner association requirements. Day one covers the basics of OWTS their purpose and functionality. Day two covers the NAWT protocol on how to complete an inspection for all systems from the basic gravity fed systems through systems with advanced treatment. The NAWT level of inspection is the Operations Level. Identifying all parts and components and assessing their condition and identify deficiencies. This is the generally accepted course that state and county health departments use for their certification requirements for individuals operating as OWTS Inspectors. \n  \nCost: \n2-day Attendance (Full Certification): $260 for CPOW members and $360 for Non-Members. \n1-Day Attendance (Certificate Renewal): $160 for CPOW Members & $260 for Non-Members. \n*Please note that each registration includes ONE (1) NAWT Certificate or Renewal\, and any additional requested renewals are $75/each. \n  \nREGISTRATION FOR THIS CLASS IS NOW CLOSED. You can check out the November Online Inspector Course\, or the 2024 Schedule for additional classes. \n*NAWT Certificates require 8 CEU hours every 2 years to remain current. NAWT CEU hours can be obtained by attending any NAWT-approved course or event.* \nYou must have a 2023 CPOW membership to receive member pricing.
URL:https://www.cpow.net/event/nawt-inspector-course-october-2023/
LOCATION:Online
CATEGORIES:Training
ORGANIZER;CN="CPOW":MAILTO:cpow@cpow.net
END:VEVENT
BEGIN:VEVENT
DTSTART;TZID=America/Denver:20230518T080000
DTEND;TZID=America/Denver:20230518T170000
DTSTAMP:20260423T210633
CREATED:20201019T202544Z
LAST-MODIFIED:20230220T163528Z
UID:2338-1684396800-1684429200@www.cpow.net
SUMMARY:NAWT Installer Course - May 2023
DESCRIPTION:THIS COURSE IS NOW BEING HELD ONLINE. \nThe Installer class is a nationally recognized OWTS class developed to provide training\, testing and certification for individuals who install OWTS systems. The topics covered in this 1-day course are planning and site evaluation; proper installation of tanks and advanced treatment units; using good installation principles for installing below grade\, at-grade and above grade soil treatment areas; proper installation of pump and pump stations; proper installation of different media and media filters. This course has been used as a preparatory course for CIDWT Installers Exam. \n  \nCost: \n$160 for CPOW Members & $260 for Non-Members. \n*Please note that each registration includes ONE (1) NAWT Certificate or Renewal\, and any additional requested renewals are $75/each. \n  \nTHIS COURSE IS AT CAPACITY AND REGISTRATION IS NOW CLOSED. If you would like to be added to the WAITLIST for the course\, you can email Lisa Nicoll at cpow@nullcpow.net\, and include the registrant(s) Name\, any applicable Company Name\, Mailing Address\, and Phone Number. Our next scheduled Online Installer Course will be in October 2023\, you can check out the course information and access the registration HERE.  \nYou must have a 2023 CPOW membership to receive member pricing.
URL:https://www.cpow.net/event/nawt-installer-course-online-may2023/
LOCATION:Online
CATEGORIES:Training
ORGANIZER;CN="CPOW":MAILTO:cpow@cpow.net
END:VEVENT
BEGIN:VEVENT
DTSTART;TZID=America/Denver:20230425T080000
DTEND;TZID=America/Denver:20230426T170000
DTSTAMP:20260423T210633
CREATED:20201103T140047Z
LAST-MODIFIED:20230422T182217Z
UID:2380-1682409600-1682528400@www.cpow.net
SUMMARY:NAWT Designer Course - April 2023
DESCRIPTION:THIS COURSE IS NOW BEING HELD ONLINE.  \nThe NAWT OWTS Designer Training Course has been developed in response to requests for a design class from counties across the United States. This is a principles based design class\, not a regulations based class. The class presents sound\, science based principles of design\, which are applicable in health jurisdictions throughout the country. It is the responsibility of the designer to understand the local health jurisdiction regulations\, and properly apply the principles taught in the class. The class will cover the full range of tasks associated with the design of an OWTS\, including evaluation of existing documentation\, site evaluation\, subsurface investigation\, soils review segment\, creating sound design documents and the principles of design for gravity systems\, pumped systems\, mound systems and non-pressurized drip dispersal systems\, formerly called Colorado Low Pressure Drip. Attendees will learn about OWTS principles of operation\, tanks\, piping\, pumps and system access. \nExamples from the new Colorado Regulation 43 will be provided to illustrate how the local regulations have changed. \n  \nCost: \n2-day Attendance (Full Certification): $260 for CPOW members and $360 for Non-Members. \n1-Day Attendance (Certificate Renewal): $160 for CPOW Members & $260 for Non-Members. \n*Please note that each registration includes ONE (1) NAWT Certificate or Renewal\, and any additional requested renewals are $75/each. \n  \nREGISTRATION FOR THIS COURSE IS NOW CLOSED. If you would like to be added to our Newsletter list to stay up-to-date on upcoming Design Courses\, please email Lisa Nicoll at cpow@nullcpow.net. \nYou must have a 2023 CPOW membership to receive member pricing.
URL:https://www.cpow.net/event/nawt-owts-designer-course-april2023/
LOCATION:Online
CATEGORIES:Training
ORGANIZER;CN="CPOW":MAILTO:cpow@cpow.net
END:VEVENT
BEGIN:VEVENT
DTSTART;TZID=America/Denver:20230228T080000
DTEND;TZID=America/Denver:20230301T170000
DTSTAMP:20260423T210633
CREATED:20191021T213205Z
LAST-MODIFIED:20230209T214111Z
UID:1989-1677571200-1677690000@www.cpow.net
SUMMARY:NAWT Designer Course - February 2023
DESCRIPTION:THIS COURSE IS NOW BEING HELD ONLINE. \nThe NAWT OWTS Designer Training Course has been developed in response to requests for a design class from counties across the United States. This is a principles based design class\, not a regulations based class. The class presents sound\, science based principles of design\, which are applicable in health jurisdictions throughout the country. It is the responsibility of the designer to understand the local health jurisdiction regulations\, and properly apply the principles taught in the class. The class will cover the full range of tasks associated with the design of an OWTS\, including evaluation of existing documentation\, site evaluation\, subsurface investigation\, soils review segment\, creating sound design documents and the principles of design for gravity systems\, pumped systems\, mound systems and non-pressurized drip dispersal systems\, formerly called Colorado Low Pressure Drip. Attendees will learn about OWTS principles of operation\, tanks\, piping\, pumps and system access. \nExamples from the new Colorado Regulation 43 will be provided to illustrate how the local regulations have changed. \n  \nCost:  \n2-day Attendance (Full Certification): $260 for CPOW members and $360 for Non-Members. \n1-Day Attendance (Certificate Renewal): $160 for CPOW Members & $260 for Non-Members. \n*Please note that each registration includes ONE (1) NAWT Certificate or Renewal\, and any additional requested renewals are $75/each. \n  \nTHIS COURSE IS AT CAPACITY AND REGISTRATION IS NOW CLOSED. If you would like to be added to the WAITLIST for the course\, please email Lisa Nicoll at cpow@nullcpow.net and include the registrant(s) Name\, any applicable Company Name\, Mailing Address\, and Phone Number. You can also register for our next Online Design Course scheduled for April 25-26\, please find the course information and registration HERE. \n  \nYou must have a 2023 CPOW membership to receive member pricing. 
URL:https://www.cpow.net/event/nawt-designer-course-online-feb2023/
LOCATION:Online
CATEGORIES:Training
ORGANIZER;CN="CPOW":MAILTO:cpow@cpow.net
END:VEVENT
BEGIN:VEVENT
DTSTART;TZID=America/Denver:20230119T080000
DTEND;TZID=America/Denver:20230119T170000
DTSTAMP:20260423T210633
CREATED:20191021T212612Z
LAST-MODIFIED:20221208T191051Z
UID:1982-1674115200-1674147600@www.cpow.net
SUMMARY:NAWT Installer Course - January 2023
DESCRIPTION:THIS COURSE IS NOW BEING HELD ONLINE. \nThe Installer class is a nationally recognized OWTS class developed to provide training\, testing and certification for individuals who install OWTS systems. The topics covered in this 1-day course are planning and site evaluation; proper installation of tanks and advanced treatment units; using good installation principles for installing below grade\, at-grade and above grade soil treatment areas; proper installation of pump and pump stations; proper installation of different media and media filters. This course has been used as a preparatory course for CIDWT Installers Exam. \n  \nCost:  \n$160 for CPOW Members & $260 for Non-Members. \n*Please note that each registration includes ONE (1) NAWT Certificate or Renewal\, and any additional requested renewals are $75/each. \n  \nTHIS COURSE IS AT CAPACITY AND REGISTRATION IS NOW CLOSED. If you would like to be added to the WAITLIST\, you can email Lisa Nicoll at cpow@nullcpow.net and include the registrant(s) Name\, any applicable Company Name\, Mailing Address\, and Phone Number. \nThe next NAWT Online Installer Course scheduled for May 2023\, CLICK HERE for more information. \n  \nYou must have a 2023 CPOW membership to receive member pricing.
URL:https://www.cpow.net/event/nawt-installer-course-online-jan2023/
LOCATION:Online
CATEGORIES:Training
ORGANIZER;CN="CPOW":MAILTO:cpow@cpow.net
END:VEVENT
BEGIN:VEVENT
DTSTART;TZID=America/Denver:20220503T080000
DTEND;TZID=America/Denver:20220504T170000
DTSTAMP:20260423T210633
CREATED:20211026T155508Z
LAST-MODIFIED:20220302T213422Z
UID:3201-1651564800-1651683600@www.cpow.net
SUMMARY:NAWT Inspector Course - May 2022
DESCRIPTION:THIS COURSE IS NOW BEING HELD ONLINE.  \nThe Inspector class is a nationally recognized Onsite Wastewater Treatment System (OWTS) class developed to provide training\, testing and certification for individuals conducting OWTS inspections for property transfers\, system functionality and county or homeowner association requirements. Day one covers the basics of OWTS their purpose and functionality. Day two covers the NAWT protocol on how to complete an inspection for all systems from the basic gravity fed systems through systems with advanced treatment. The NAWT level of inspection is the Operations Level. Identifying all parts and components and assessing their condition and identify deficiencies. This is the generally accepted course that state and county health departments use for their certification requirements for individuals operating as OWTS Inspectors. \nTHE COURSE IS NOW AT CAPACITY AND REGISTRATION IS CLOSED. If you would like to be added to the WAITLIST\, please email Lisa Nicoll at cpow@nullcpow.net and include the registrant(s) name\, any applicable Company name\, mailing address\, and phone number. You can also check the NAWT Website\, www.nawt.org\, to see if any surrounding states or organizations are hosting any additional courses. \nYou must have a current 2022 CPOW membership to receive member pricing.
URL:https://www.cpow.net/event/nawt-inspector-course-may-2022/
LOCATION:Online
ORGANIZER;CN="CPOW":MAILTO:cpow@cpow.net
END:VEVENT
BEGIN:VEVENT
DTSTART;TZID=America/Denver:20220124T080000
DTEND;TZID=America/Denver:20220125T170000
DTSTAMP:20260423T210633
CREATED:20211026T155055Z
LAST-MODIFIED:20220117T145215Z
UID:3195-1643011200-1643130000@www.cpow.net
SUMMARY:NAWT Design Course - January 2022
DESCRIPTION:THIS COURSE IS NOW BEING HELD ONLINE.  \nThe NAWT OWTS Designer Training Course has been developed in response to requests for a design class from counties across the United States. This is a principles based design class\, not a regulations based class. The class presents sound\, science based principles of design\, which are applicable in health jurisdictions throughout the country. It is the responsibility of the designer to understand the local health jurisdiction regulations\, and properly apply the principles taught in the class. The class will cover the full range of tasks associated with the design of an OWTS\, including evaluation of existing documentation\, site evaluation\, subsurface investigation\, soils review segment\, creating sound design documents and the principles of design for gravity systems\, pumped systems\, mound systems and non-pressurized drip dispersal systems\, formerly called Colorado Low Pressure Drip. Attendees will learn about OWTS principles of operation\, tanks\, piping\, pumps and system access. \nExamples from the new Colorado Regulation 43 will be provided to illustrate how the local regulations have changed. \nTHIS COURSE IS AT CAPACITY AND REGISTRATION IS NOW CLOSED. If you would like to be added to the WAITLIST\, you can email Lisa Nicoll at cpow@nullcpow.net and include the registrant(s) name\, any applicable Company name\, mailing address\, and phone number. We are also hosting an additional NAWT Online Design Course in April 2022\, you can access the course information and registgration HERE. \nYou must have a current 2022 CPOW membership to receive member pricing.
URL:https://www.cpow.net/event/nawt-design-course-january-2022/
LOCATION:Online
ORGANIZER;CN="CPOW":MAILTO:cpow@cpow.net
END:VEVENT
BEGIN:VEVENT
DTSTART;TZID=America/Denver:20210903T080000
DTEND;TZID=America/Denver:20210903T170000
DTSTAMP:20260423T210633
CREATED:20210324T155902Z
LAST-MODIFIED:20210730T173509Z
UID:2875-1630656000-1630688400@www.cpow.net
SUMMARY:NAWT Installer Course
DESCRIPTION:THIS COURSE IS NOW BEING HELD ONLINE. \nThe date of the course has been updated to Friday\, September 3rd.  \nThe Installer class is a nationally recognized OWTS class developed to provide training\, testing and certification for individuals who install OWTS systems. The topics covered in this 1-day course are planning and site evaluation; proper installation of tanks and advanced treatment units; using good installation principles for installing below grade\, at-grade and above grade soil treatment areas\, and proper installation of pump and pump stations. \nTHE COURSE HAS REACHED CAPACITY AND REGISTRATION IS NOW CLOSED. If you would like to be added to the WAITLIST for the course\, please email Lisa Nicoll at cpow@nullcpow.net with your name\, company name\, mailing address\, and telephone number. \nYou must have a 2021 CPOW membership to receive member pricing for the course.
URL:https://www.cpow.net/event/nawt-installer-course-2/
LOCATION:Online
ORGANIZER;CN="CPOW":MAILTO:cpow@cpow.net
END:VEVENT
BEGIN:VEVENT
DTSTART;TZID=America/Denver:20210630T080000
DTEND;TZID=America/Denver:20210630T170000
DTSTAMP:20260423T210633
CREATED:20210519T203956Z
LAST-MODIFIED:20210617T212454Z
UID:2970-1625040000-1625072400@www.cpow.net
SUMMARY:NAWT OWTS Recertification Class
DESCRIPTION:THIS CLASS IS BEING HELD ONLINE \nAt the conclusion of this course\, participants will have reviewed the Onsite Wastewater Treatment Systems (OWTS) from several viewpoints. Participants will recognize the importance of having an understanding of OWTS and apply this knowledge to communications with the different parties involved in the lifecycle of an OWTS.  They will be able to describe what wastewater is and how it is treated using these systems.  Participants will be able to identify the different types of systems available\, from the very basic/conventional system up to and through advanced treatment types and proprietary units and the soil treatment areas used in wastewater treatment.  The participants will analyze the best practices each sector of the industry applies and determine how they function together throughout the lifecycle of an OWTS.  They will be able to examine their situation and design a business plan to ensure that the costs associated with their activities are covered and their business will thrive. \nNAWT Renewal Course\nAGENDA\n06/30/21 \nIntroductions – 8:00 – 8:10 – 10 min\nShort History in Human Sanitation – 8:10 – 9:10 – 60 min\nIndustry Basics – The Business of OWTS – 9:10 – 10:40 – 90 min\nBreak – 10:40 – 11:00 – 20 min\nIntro to Wastewater – What is it? – 11:00 – 12:30 – 90 min\nLunch – 12:30 – 1:00 – 30 min\nHow Wastewater Flows Through the System – 1:00 – 2:00 – 60 min\nWhy Advanced Treatment? – 2:00 – 3:00 – 60 min\nBreak – 3:00 – 3:15 – 15 min\nBasic Installation Principles – 3:15 – 4:30 – 90 min \nFacilitator:\nKim Seipp\, High Plains Sanitation Service\, NAWT Educational Coordinator \nThis renewal course is worth 8 CEU Hours\, and can be used to recertify any NAWT certificate. Please note that the cost of the course includes ONE (1) NAWT Certificate Renewal\, and any additional requested NAWT Renewals will be $75 per renewal. \nYou can register online by clicking HERE or you can email Lisa Nicoll at cpow@nullcpow.net and include the registrant(s) name\, any applicable Company name\, mailing address\, and phone number. \nYou must have a current 2021 CPOW membership to receive member pricing.
URL:https://www.cpow.net/event/nawt-owts-recertification-class/
LOCATION:Online
ORGANIZER;CN="CPOW":MAILTO:cpow@cpow.net
END:VEVENT
BEGIN:VEVENT
DTSTART;TZID=America/Denver:20210413T080000
DTEND;TZID=America/Denver:20210414T170000
DTSTAMP:20260423T210633
CREATED:20201103T140649Z
LAST-MODIFIED:20201122T192245Z
UID:2386-1618300800-1618419600@www.cpow.net
SUMMARY:NAWT Operation & Maintenance 2
DESCRIPTION:THIS COURSE IS NOW BEING HELD ONLINE. \nThe NAWT Operations and Maintenance Training Courses were developed in coordination with Consortium of Institutes for Decentralized Wastewater Treatment (CIDWT). Operation & Maintenance 2  concentrates on aerobic tanks\, drip irrigation\, single pass and re-circulating media filters. Operation & Maintenance 2 is conducted over two days with an exam administered at the conclusion. Operation & Maintenance 1 is a prerequisite to Operation & Maintenance 2. Operation & Maintenance 1 concentrates on the business aspects of O&M and the maintenance requirements for conventional systems including trenches\, beds\, mounds and at-grade systems with some aerobic tank discussion. \nPlease click HERE to register\, or email Lisa Nicoll at cpow@nullcpow.net and include the registrant(s) name\, any applicable Company name\, mailing address\, email and phone number. \nYou must have a current 2021 CPOW membership to receive member pricing.
URL:https://www.cpow.net/event/nawt-operation-maintenance-2-2/
LOCATION:Online
ORGANIZER;CN="CPOW":MAILTO:cpow@cpow.net
END:VEVENT
BEGIN:VEVENT
DTSTART;TZID=America/Denver:20210204T080000
DTEND;TZID=America/Denver:20210205T170000
DTSTAMP:20260423T210633
CREATED:20201118T205020Z
LAST-MODIFIED:20201118T212826Z
UID:2417-1612425600-1612544400@www.cpow.net
SUMMARY:Utah On-Site Wastewater Association Annual Conference
DESCRIPTION:The Utah Onsite Wastewater Association (UOWA) Conference was held on February  6-7\, 2020 at the Conservation Garden Park\, 8275 S 1300 W\, West Jordan\, UT 84088.\nWho Will Attend the 2020 UOWA Conference?\nParticipants will include public and private sector professionals who work with and have a stake in individual onsite wastewater treatment systems including: \nWater Quality and Health Department Personnel • Contractors • Installers • Designers • Engineers • Septic Tank Pumpers • Planners • Municipal Officials • Homeowners • University Research • Training Personnel \nREGISTRATION and PAYMENT WILL BE AVAILABLE ONLINE at:\nhttps://www.utahonsite.org/ \nCOST OF REGISTRATION\nStudent Member – Conference attendance ONLY………………………………………$50\nGeneral Member – Conference and UOWA membership ……………………………$100\nSupporting Member – Conference and UOWA membership for 2 persons……….$250\nExhibitor – Conference for 2 persons and exhibitor space………………………… $300 \n\nIf paying by check…\nMAKE CHECKS PAYABLE TO:\nUtah On-Site Wastewater Association\nUtah Water Research Lab\, Utah State University\n8200 Old Main Hill\, Logan\, UT 84322-8200 \n\nPlease contact Ivonne Harris if you have\nany questions or if you require special\naccomodations\, materials\, or services:\nPhone: (435) 797-3693 • Fax: (435) 797-3663\nE-mail: ivonne.harris@nullusu.edu\n\n  \n\n\n\n 
URL:https://www.cpow.net/event/utah-on-site-wastewater-association-annual-conference/
LOCATION:Online
ORGANIZER;CN="CPOW":MAILTO:cpow@cpow.net
END:VEVENT
BEGIN:VEVENT
DTSTART;TZID=America/Denver:20210114T090000
DTEND;TZID=America/Denver:20210114T113000
DTSTAMP:20260423T210633
CREATED:20201125T155951Z
LAST-MODIFIED:20201130T184231Z
UID:2439-1610614800-1610623800@www.cpow.net
SUMMARY:Geomatrix Webinar
DESCRIPTION:Geomatrix is hosting a webinar on January 14\, 2021 @ 9-11:30 am MST to learn about GeoMat design and installation in Colorado. The GeoMat distribution system by Geomatrix has been in use since the early 2000s and is newly approved in Colorado.  \nTo register for this online event\, please complete this form and a Zoom link will be emailed to you within 72 hours (be sure to check your spam folder).   \n  \nContact for webinar:  \nSara Wigginton\, Ph.D. \nGeomatrix\, LLC \n114 Mill Rock Road East \nOld Saybrook\, CT 06475 \n860-510-0730 \n860-510-0735-fax \n270-769-8547-cell \nswigginton@nullgeomatrixllc.com \n 
URL:https://www.cpow.net/event/2439/
LOCATION:Online
END:VEVENT
END:VCALENDAR