BEGIN:VCALENDAR
VERSION:2.0
PRODID:-//Colorado Professionals in Onsite Wastewater - ECPv6.15.17.1//NONSGML v1.0//EN
CALSCALE:GREGORIAN
METHOD:PUBLISH
X-ORIGINAL-URL:https://www.cpow.net
X-WR-CALDESC:Events for Colorado Professionals in Onsite Wastewater
REFRESH-INTERVAL;VALUE=DURATION:PT1H
X-Robots-Tag:noindex
X-PUBLISHED-TTL:PT1H
BEGIN:VTIMEZONE
TZID:America/Denver
BEGIN:DAYLIGHT
TZOFFSETFROM:-0700
TZOFFSETTO:-0600
TZNAME:MDT
DTSTART:20250309T090000
END:DAYLIGHT
BEGIN:STANDARD
TZOFFSETFROM:-0600
TZOFFSETTO:-0700
TZNAME:MST
DTSTART:20251102T080000
END:STANDARD
BEGIN:DAYLIGHT
TZOFFSETFROM:-0700
TZOFFSETTO:-0600
TZNAME:MDT
DTSTART:20260308T090000
END:DAYLIGHT
BEGIN:STANDARD
TZOFFSETFROM:-0600
TZOFFSETTO:-0700
TZNAME:MST
DTSTART:20261101T080000
END:STANDARD
BEGIN:DAYLIGHT
TZOFFSETFROM:-0700
TZOFFSETTO:-0600
TZNAME:MDT
DTSTART:20270314T090000
END:DAYLIGHT
BEGIN:STANDARD
TZOFFSETFROM:-0600
TZOFFSETTO:-0700
TZNAME:MST
DTSTART:20271107T080000
END:STANDARD
END:VTIMEZONE
BEGIN:VEVENT
DTSTART;TZID=America/Denver:20261119T080000
DTEND;TZID=America/Denver:20261120T170000
DTSTAMP:20260423T162658
CREATED:20211026T162154Z
LAST-MODIFIED:20260302T181203Z
UID:3207-1795075200-1795194000@www.cpow.net
SUMMARY:NAWT ONLINE O&M 1 - November 2026
DESCRIPTION:THIS COURSE IS BEING HELD ONLINE THROUGH ZOOM.\n*A webcam is required for taking the Online Exam at the end of the 2-day course\, for those seeking Certification.* \nThe NAWT Operations and Maintenance Training Courses were developed in coordination with Consortium of Institutes for Decentralized Wastewater Treatment (CIDWT). Operations & Maintenance 1 concentrates on the business aspects of O&M and the maintenance requirements for conventional systems including trenches\, beds\, mounds and at-grade systems with some aerobic tank discussion. Operation & Maintenance 1 is a prerequisite to Operation & Maintenance 2\, which concentrates on aerobic tanks\, drip irrigation\, single pass and re-circulating media filters. Operation & Maintenance 1 is conducted over two days with an exam administered at the conclusion. \n  \nInstructors: \n\nTim Galvin – Underground Solutions\nBill Tatro – Snowbridge\, Inc\n\nIn-Person Course Dates: \n\nNovember 19-20 \, 2026\n\nCourse Location: \n\nOnline via Zoom\n\nCOURSE PRICING: \nCPOW Member 1-day Attendance: $250 / NON-Member 1-Day Attendance: $350\nCourse Attendance on Thursday\, November 19th for 8 CEU hours\nIncludes one (1) NAWT or CPOW Certificate Renewal\nAdditional requested Certificate Renewals will be invoiced at $100/ea after the class\n \nCPOW Member 2-day Attendance: $350 / Non-Member 2-day Attendance: $450\nIncludes one (1) NAWT Inspector Certificate & one (1) CIDWT Course Manual provided by NAWT\nAdditional requested Certificate Renewals will be invoiced at $100/ea after the class \nYou must have a 2026 CPOW membership to receive member pricing.\n2026 Memberships can be purchased/renewed at the time of registration.\nPlease note that CPOW Memberships are valid until Dec 31 of the calendar year for which they are purchased and need to be\nrenewed annually to take advantage of Member Pricing on CPOW Courses and Events.  \n  \nOnline registration is now available for the course. Please click HERE to access the Course Registration.\nYou can also email Lisa Nicoll at cpow@nullcpow.net and include the registrant(s) Name\, any applicable Company Name\, Mailing Address\, and Phone Number.\n*REGISTRATION FOR THE COURSES WILL CLOSE AT 5:00PM MDT ON TUESDAY\, NOVEMBER 17TH\, 2026\nOR WHEN THE ONLINE COURSE REACHES 100 PARTICIPANTS\, WHICHEVER OCCURS FIRST*\n \n*NAWT Certificates require 8 CEU hours every 2 years to remain current.\nNAWT CEU hours can be obtained by attending any NAWT-approved course or event.* \nCPOW EXAM POLICY: \n\nIf the exam is not passed during the first attempt\, a second attempt will be allowed\, and will be scheduled after the first attempt. If the second attempt does not result in a passing score\, or if the rescheduled exam date is missed with no notification\, the participant will need to re-take the full course again\, but at a discounted rate due to the certification being paid for with the first registration. The registration for the next class will provide for two additional attempts to take the exam to obtain a passing grade. The registration for the next class will provide for two additional attempts to take the exam to obtain a passing grade. Exam retakes must be scheduled and taken within 90 days of the end of the course before the exam retake option is void. 
URL:https://www.cpow.net/event/nawt-om-1-nov2026/
LOCATION:Online
CATEGORIES:Training
ORGANIZER;CN="CPOW":MAILTO:cpow@cpow.net
END:VEVENT
BEGIN:VEVENT
DTSTART;TZID=America/Denver:20261217T080000
DTEND;TZID=America/Denver:20261218T170000
DTSTAMP:20260423T162658
CREATED:20211026T162541Z
LAST-MODIFIED:20260408T193617Z
UID:3213-1797494400-1797613200@www.cpow.net
SUMMARY:NAWT ONLINE O&M 2 - December 2026
DESCRIPTION:THIS COURSE IS BEING HELD ONLINE THROUGH ZOOM.\n*A webcam is required for taking the Online Exam at the end of the 2-day course\, for those seeking Certification.* \nThe NAWT Operations and Maintenance Training Courses were developed in coordination with Consortium of Institutes for Decentralized Wastewater Treatment (CIDWT). Operation & Maintenance 2 concentrates on aerobic tanks\, drip irrigation\, single pass and re-circulating media filters. Operation & Maintenance 2 is conducted over two days with an exam administered at the conclusion. Operation & Maintenance 1 is a prerequisite to Operation & Maintenance 2. Operation & Maintenance 1 concentrates on the business aspects of O&M and the maintenance requirements for conventional systems including trenches\, beds\, mounds and at-grade systems with some aerobic tank discussion. \nOperations & Maintenance 1 is a prerequisite for Operations & Maintenance 2\nand needs to be completed prior to taking this course.\nCheck your NAWT Certificate status HERE to confirm you hold the appropriate prerequisite Certification.\n \nInstructors: \n\nChuck Cousino\, REHS – Retired\, CDPHE\nBill Tatro – Snowbridge\, Inc\n\nIn-Person Course Dates: \n\nDecember 17-18\, 2026\n\nCourse Location: \n\nOnline via Zoom\n\nCOURSE PRICING: \nCPOW Member 1-day Attendance: $250 / NON-Member 1-Day Attendance: $350\nCourse Attendance on Thursday\, Dec 17th for 8 CEU hours\nIncludes one (1) NAWT or CPOW Certificate Renewal\nAdditional requested Certificate Renewals will be invoiced at $100/ea after the class\n \nCPOW Member 2-day Attendance: $350 / Non-Member 2-day Attendance: $450\nIncludes one (1) NAWT Inspector Certificate & one (1) CIDWT Course Manual provided by NAWT\nAdditional requested Certificate Renewals will be invoiced at $100/ea after the class \nYou must have a 2026 CPOW membership to receive member pricing.\n2026 Memberships can be purchased/renewed at the time of registration.\nPlease note that CPOW Memberships are valid until Dec 31 of the calendar year for which they are purchased and need to be\nrenewed annually to take advantage of Member Pricing on CPOW Courses and Events.  \n  \nOnline registration is now available for the course. Please click HERE to access the Course Registration.\nYou can also email Lisa Nicoll at cpow@nullcpow.net and include the registrant(s) Name\, any applicable Company Name\, Mailing Address\, and Phone Number.\n*REGISTRATION FOR THE COURSES WILL CLOSE AT 5:00PM MDT ON TUESDAY\, DECEMBER 15TH\, 2026\nOR WHEN THE ONLINE COURSE REACHES 100 PARTICIPANTS\, WHICHEVER OCCURS FIRST*\n \n  \n*NAWT Certificates require 8 CEU hours every 2 years to remain current.\nNAWT CEU hours can be obtained by attending any NAWT-approved course or event.* \nCPOW EXAM POLICY: \n\nIf the exam is not passed during the first attempt\, a second attempt will be allowed\, and will be scheduled after the first attempt. If the second attempt does not result in a passing score\, or if the rescheduled exam date is missed with no notification\, the participant will need to re-take the full course again\, but at a discounted rate due to the certification being paid for with the first registration. The registration for the next class will provide for two additional attempts to take the exam to obtain a passing grade. The registration for the next class will provide for two additional attempts to take the exam to obtain a passing grade. Exam retakes must be scheduled and taken within 90 days of the end of the course before the exam retake option is void. 
URL:https://www.cpow.net/event/nawt-om-2-dec2026/
LOCATION:Online
CATEGORIES:Training
ORGANIZER;CN="CPOW":MAILTO:cpow@cpow.net
END:VEVENT
END:VCALENDAR