BEGIN:VCALENDAR
VERSION:2.0
PRODID:-//Colorado Professionals in Onsite Wastewater - ECPv6.15.17.1//NONSGML v1.0//EN
CALSCALE:GREGORIAN
METHOD:PUBLISH
X-ORIGINAL-URL:https://www.cpow.net
X-WR-CALDESC:Events for Colorado Professionals in Onsite Wastewater
REFRESH-INTERVAL;VALUE=DURATION:PT1H
X-Robots-Tag:noindex
X-PUBLISHED-TTL:PT1H
BEGIN:VTIMEZONE
TZID:America/Denver
BEGIN:DAYLIGHT
TZOFFSETFROM:-0700
TZOFFSETTO:-0600
TZNAME:MDT
DTSTART:20150308T090000
END:DAYLIGHT
BEGIN:STANDARD
TZOFFSETFROM:-0600
TZOFFSETTO:-0700
TZNAME:MST
DTSTART:20151101T080000
END:STANDARD
BEGIN:DAYLIGHT
TZOFFSETFROM:-0700
TZOFFSETTO:-0600
TZNAME:MDT
DTSTART:20160313T090000
END:DAYLIGHT
BEGIN:STANDARD
TZOFFSETFROM:-0600
TZOFFSETTO:-0700
TZNAME:MST
DTSTART:20161106T080000
END:STANDARD
BEGIN:DAYLIGHT
TZOFFSETFROM:-0700
TZOFFSETTO:-0600
TZNAME:MDT
DTSTART:20170312T090000
END:DAYLIGHT
BEGIN:STANDARD
TZOFFSETFROM:-0600
TZOFFSETTO:-0700
TZNAME:MST
DTSTART:20171105T080000
END:STANDARD
END:VTIMEZONE
BEGIN:VEVENT
DTSTART;TZID=America/Denver:20161026T080000
DTEND;TZID=America/Denver:20161029T170000
DTSTAMP:20260423T232847
CREATED:20160715T184307Z
LAST-MODIFIED:20160816T230604Z
UID:1152-1477468800-1477760400@www.cpow.net
SUMMARY:NOWRA 2016 Onsite Wastewater Mega-Conference
DESCRIPTION:2016 Onsite Wastewater Mega-Conference\nOctober 26-29\, 2016\nNugget Casino Resort\nReno\, Nevada \nPlan to join your colleagues from NOWRA\, NAWT\, FOWA (Florida Onsite Wastewater Association)\, CPOW and other Western State Organizations for the 2016 Onsite Wastewater Mega-Conference\, October 26-29\, 2016 at The Nugget Hotel and Resort\, Reno NV. CPOW members will receive a 10% discount on registration for the Mega-Conference by entering the promotional code cpowmega. It should be entered in all lowercase letters for the online registration form. There is also a spot to put the code on the hard copy registration form. \nHighlights: \n\nDozens of concurrent education sessions\nSpecial track for contractors (vendor equipment training\, business management track for owners of onsite contracting companies)\nExtensive exposition\nNOWRA National Backhoe Roe-D-Hoe® Championship\nField Trip\n\nPlease click here for more information.
URL:https://www.cpow.net/event/nowra-2016-onsite-wastewater-mega-conference/
LOCATION:Nugget Casino Resort\, Reno\, NV
END:VEVENT
END:VCALENDAR