BEGIN:VCALENDAR
VERSION:2.0
PRODID:-//Colorado Professionals in Onsite Wastewater - ECPv6.15.17.1//NONSGML v1.0//EN
CALSCALE:GREGORIAN
METHOD:PUBLISH
X-ORIGINAL-URL:https://www.cpow.net
X-WR-CALDESC:Events for Colorado Professionals in Onsite Wastewater
REFRESH-INTERVAL;VALUE=DURATION:PT1H
X-Robots-Tag:noindex
X-PUBLISHED-TTL:PT1H
BEGIN:VTIMEZONE
TZID:America/Denver
BEGIN:DAYLIGHT
TZOFFSETFROM:-0700
TZOFFSETTO:-0600
TZNAME:MDT
DTSTART:20180311T090000
END:DAYLIGHT
BEGIN:STANDARD
TZOFFSETFROM:-0600
TZOFFSETTO:-0700
TZNAME:MST
DTSTART:20181104T080000
END:STANDARD
BEGIN:DAYLIGHT
TZOFFSETFROM:-0700
TZOFFSETTO:-0600
TZNAME:MDT
DTSTART:20190310T090000
END:DAYLIGHT
BEGIN:STANDARD
TZOFFSETFROM:-0600
TZOFFSETTO:-0700
TZNAME:MST
DTSTART:20191103T080000
END:STANDARD
BEGIN:DAYLIGHT
TZOFFSETFROM:-0700
TZOFFSETTO:-0600
TZNAME:MDT
DTSTART:20200308T090000
END:DAYLIGHT
BEGIN:STANDARD
TZOFFSETFROM:-0600
TZOFFSETTO:-0700
TZNAME:MST
DTSTART:20201101T080000
END:STANDARD
END:VTIMEZONE
BEGIN:VEVENT
DTSTART;TZID=America/Denver:20191013T080000
DTEND;TZID=America/Denver:20191016T170000
DTSTAMP:20260423T230402
CREATED:20190110T172735Z
LAST-MODIFIED:20190910T165445Z
UID:1822-1570953600-1571245200@www.cpow.net
SUMMARY:NOWRA Mega-Conference
DESCRIPTION:CPOW is excited to announce that we will be partnering with NOWRA\, SORA\, and NAWT for the 2019 Onsite Wastewater Educational Mega-Conference. \nThe conference will be held October 13-19\, 2019 instead of January 2019 at  Embassy Suites by Hilton Loveland Hotel Conference Center\, 4705 Clydesdale Pkwy\, Loveland\, CO 80538 \nYou can access the online registration HERE. Please note that the Early-Bird Pricing ends September 11th.
URL:https://www.cpow.net/event/nowra-mega-conference/
LOCATION:Embassy Suites by Hilton Loveland Hotel Conference Center\, 4705 Clydesdale Pkwy\, Loveland\, 80538
END:VEVENT
END:VCALENDAR