BEGIN:VCALENDAR
VERSION:2.0
PRODID:-//Colorado Professionals in Onsite Wastewater - ECPv6.15.17.1//NONSGML v1.0//EN
CALSCALE:GREGORIAN
METHOD:PUBLISH
X-WR-CALNAME:Colorado Professionals in Onsite Wastewater
X-ORIGINAL-URL:https://www.cpow.net
X-WR-CALDESC:Events for Colorado Professionals in Onsite Wastewater
REFRESH-INTERVAL;VALUE=DURATION:PT1H
X-Robots-Tag:noindex
X-PUBLISHED-TTL:PT1H
BEGIN:VTIMEZONE
TZID:America/Denver
BEGIN:DAYLIGHT
TZOFFSETFROM:-0700
TZOFFSETTO:-0600
TZNAME:MDT
DTSTART:20130310T090000
END:DAYLIGHT
BEGIN:STANDARD
TZOFFSETFROM:-0600
TZOFFSETTO:-0700
TZNAME:MST
DTSTART:20131103T080000
END:STANDARD
BEGIN:DAYLIGHT
TZOFFSETFROM:-0700
TZOFFSETTO:-0600
TZNAME:MDT
DTSTART:20140309T090000
END:DAYLIGHT
BEGIN:STANDARD
TZOFFSETFROM:-0600
TZOFFSETTO:-0700
TZNAME:MST
DTSTART:20141102T080000
END:STANDARD
BEGIN:DAYLIGHT
TZOFFSETFROM:-0700
TZOFFSETTO:-0600
TZNAME:MDT
DTSTART:20150308T090000
END:DAYLIGHT
BEGIN:STANDARD
TZOFFSETFROM:-0600
TZOFFSETTO:-0700
TZNAME:MST
DTSTART:20151101T080000
END:STANDARD
END:VTIMEZONE
BEGIN:VEVENT
DTSTART;TZID=America/Denver:20140407T083000
DTEND;TZID=America/Denver:20140408T200000
DTSTAMP:20260424T062901
CREATED:20140319T005828Z
LAST-MODIFIED:20140319T005828Z
UID:404-1396859400-1396987200@www.cpow.net
SUMMARY:SSSA Onsite Wastewater Conference
DESCRIPTION:More information. \n[button url=”https://www.soils.org/meetings/specialized-conferences/onsite-wastewater” color=”dark” size=”large”]Register Now[/button]
URL:https://www.cpow.net/event/sssa-onsite-wastewater-conference/
LOCATION:Embassy Suites Albuquerque Hotel\, 1000 Woodward Pl NE\, Albuquerque\, NM\, 87102\, United States
CATEGORIES:Conference
GEO:35.0919639;-106.6358785
X-APPLE-STRUCTURED-LOCATION;VALUE=URI;X-ADDRESS=Embassy Suites Albuquerque Hotel 1000 Woodward Pl NE Albuquerque NM 87102 United States;X-APPLE-RADIUS=500;X-TITLE=1000 Woodward Pl NE:geo:-106.6358785,35.0919639
END:VEVENT
END:VCALENDAR