BEGIN:VCALENDAR
VERSION:2.0
PRODID:-//Colorado Professionals in Onsite Wastewater - ECPv6.15.17.1//NONSGML v1.0//EN
CALSCALE:GREGORIAN
METHOD:PUBLISH
X-ORIGINAL-URL:https://www.cpow.net
X-WR-CALDESC:Events for Colorado Professionals in Onsite Wastewater
REFRESH-INTERVAL;VALUE=DURATION:PT1H
X-Robots-Tag:noindex
X-PUBLISHED-TTL:PT1H
BEGIN:VTIMEZONE
TZID:America/Denver
BEGIN:DAYLIGHT
TZOFFSETFROM:-0700
TZOFFSETTO:-0600
TZNAME:MDT
DTSTART:20130310T090000
END:DAYLIGHT
BEGIN:STANDARD
TZOFFSETFROM:-0600
TZOFFSETTO:-0700
TZNAME:MST
DTSTART:20131103T080000
END:STANDARD
BEGIN:DAYLIGHT
TZOFFSETFROM:-0700
TZOFFSETTO:-0600
TZNAME:MDT
DTSTART:20140309T090000
END:DAYLIGHT
BEGIN:STANDARD
TZOFFSETFROM:-0600
TZOFFSETTO:-0700
TZNAME:MST
DTSTART:20141102T080000
END:STANDARD
BEGIN:DAYLIGHT
TZOFFSETFROM:-0700
TZOFFSETTO:-0600
TZNAME:MDT
DTSTART:20150308T090000
END:DAYLIGHT
BEGIN:STANDARD
TZOFFSETFROM:-0600
TZOFFSETTO:-0700
TZNAME:MST
DTSTART:20151101T080000
END:STANDARD
BEGIN:DAYLIGHT
TZOFFSETFROM:-0700
TZOFFSETTO:-0600
TZNAME:MDT
DTSTART:20160313T090000
END:DAYLIGHT
BEGIN:STANDARD
TZOFFSETFROM:-0600
TZOFFSETTO:-0700
TZNAME:MST
DTSTART:20161106T080000
END:STANDARD
BEGIN:DAYLIGHT
TZOFFSETFROM:-0700
TZOFFSETTO:-0600
TZNAME:MDT
DTSTART:20170312T090000
END:DAYLIGHT
BEGIN:STANDARD
TZOFFSETFROM:-0600
TZOFFSETTO:-0700
TZNAME:MST
DTSTART:20171105T080000
END:STANDARD
BEGIN:DAYLIGHT
TZOFFSETFROM:-0700
TZOFFSETTO:-0600
TZNAME:MDT
DTSTART:20180311T090000
END:DAYLIGHT
BEGIN:STANDARD
TZOFFSETFROM:-0600
TZOFFSETTO:-0700
TZNAME:MST
DTSTART:20181104T080000
END:STANDARD
BEGIN:DAYLIGHT
TZOFFSETFROM:-0700
TZOFFSETTO:-0600
TZNAME:MDT
DTSTART:20190310T090000
END:DAYLIGHT
BEGIN:STANDARD
TZOFFSETFROM:-0600
TZOFFSETTO:-0700
TZNAME:MST
DTSTART:20191103T080000
END:STANDARD
END:VTIMEZONE
BEGIN:VEVENT
DTSTART;TZID=America/Denver:20181115T080000
DTEND;TZID=America/Denver:20181116T170000
DTSTAMP:20260424T045911
CREATED:20171004T211009Z
LAST-MODIFIED:20181010T203037Z
UID:1530-1542268800-1542387600@www.cpow.net
SUMMARY:NAWT Inspector Training 2018
DESCRIPTION:The Inspector class is a nationally recognized Onsite Wastewater Treatment System (OWTS) class developed to provide training\, testing and certification for individuals conducting OWTS inspections for property transfers\, system functionality and county or homeowner association requirements. Day one covers the basics of OWTS their purpose and functionality. Day two covers the NAWT protocol on how to complete an inspection for all systems from the basic gravity fed systems through systems with advanced treatment. The NAWT level of inspection is the Operations Level. Identifying all parts and components and assessing their condition and identify deficiencies. This is the generally accepted course that state and county health departments use for their certification requirements for individuals operating as OWTS Inspectors. \nCLASS IS CURRENTLY AT CAPACITY. If you would like to be added to the Waiting List\, please email cpow@nullcpow.net with your NAME\, COMPANY NAME\, MAILING ADDRESS\, and TELEPHONE NUMBER. Please note whether you need the 1-day Recertification or 2-Day Full Certification. If a spot opens up for the class\, you will be notified\, and we will send you an invoice. \nYou must have a current CPOW membership to receive member pricing.
URL:https://www.cpow.net/event/nawt-inspector-training-2018/
LOCATION:El Paso County Health Department (Snow/Miller Conference Room)\, 1675 W Garden of the Gods Rd\, Colorado Springs\, CO\, 80907\, United States
ORGANIZER;CN="CPOW":MAILTO:cpow@cpow.net
GEO:38.8964877;-104.8608666
X-APPLE-STRUCTURED-LOCATION;VALUE=URI;X-ADDRESS=El Paso County Health Department (Snow/Miller Conference Room) 1675 W Garden of the Gods Rd Colorado Springs CO 80907 United States;X-APPLE-RADIUS=500;X-TITLE=1675 W Garden of the Gods Rd:geo:-104.8608666,38.8964877
END:VEVENT
BEGIN:VEVENT
DTSTART;TZID=America/Denver:20140522T080000
DTEND;TZID=America/Denver:20140523T170000
DTSTAMP:20260424T045911
CREATED:20140319T140244Z
LAST-MODIFIED:20140521T143836Z
UID:406-1400745600-1400864400@www.cpow.net
SUMMARY:NAWT Inspector Training - 2 Day Training
DESCRIPTION:This class is almost full\, please contact Kim Seipp at 303-622-4126 if you are interested in registering. \nDownload application to pay by check. \n 
URL:https://www.cpow.net/event/nawt-inspector-training-2-day-training/
LOCATION:El Paso County Health Department (Snow/Miller Conference Room)\, 1675 W Garden of the Gods Rd\, Colorado Springs\, CO\, 80907\, United States
CATEGORIES:Training
GEO:38.8964877;-104.8608666
X-APPLE-STRUCTURED-LOCATION;VALUE=URI;X-ADDRESS=El Paso County Health Department (Snow/Miller Conference Room) 1675 W Garden of the Gods Rd Colorado Springs CO 80907 United States;X-APPLE-RADIUS=500;X-TITLE=1675 W Garden of the Gods Rd:geo:-104.8608666,38.8964877
END:VEVENT
END:VCALENDAR