BEGIN:VCALENDAR
VERSION:2.0
PRODID:-//Colorado Professionals in Onsite Wastewater - ECPv6.15.17.1//NONSGML v1.0//EN
CALSCALE:GREGORIAN
METHOD:PUBLISH
X-ORIGINAL-URL:https://www.cpow.net
X-WR-CALDESC:Events for Colorado Professionals in Onsite Wastewater
REFRESH-INTERVAL;VALUE=DURATION:PT1H
X-Robots-Tag:noindex
X-PUBLISHED-TTL:PT1H
BEGIN:VTIMEZONE
TZID:America/Denver
BEGIN:DAYLIGHT
TZOFFSETFROM:-0700
TZOFFSETTO:-0600
TZNAME:MDT
DTSTART:20190310T090000
END:DAYLIGHT
BEGIN:STANDARD
TZOFFSETFROM:-0600
TZOFFSETTO:-0700
TZNAME:MST
DTSTART:20191103T080000
END:STANDARD
BEGIN:DAYLIGHT
TZOFFSETFROM:-0700
TZOFFSETTO:-0600
TZNAME:MDT
DTSTART:20200308T090000
END:DAYLIGHT
BEGIN:STANDARD
TZOFFSETFROM:-0600
TZOFFSETTO:-0700
TZNAME:MST
DTSTART:20201101T080000
END:STANDARD
BEGIN:DAYLIGHT
TZOFFSETFROM:-0700
TZOFFSETTO:-0600
TZNAME:MDT
DTSTART:20210314T090000
END:DAYLIGHT
BEGIN:STANDARD
TZOFFSETFROM:-0600
TZOFFSETTO:-0700
TZNAME:MST
DTSTART:20211107T080000
END:STANDARD
END:VTIMEZONE
BEGIN:VEVENT
DTSTART;TZID=America/Denver:20200513T080000
DTEND;TZID=America/Denver:20200514T170000
DTSTAMP:20260424T002450
CREATED:20191023T150112Z
LAST-MODIFIED:20200406T145918Z
UID:2006-1589356800-1589475600@www.cpow.net
SUMMARY:CPOW Soils Course - Durango
DESCRIPTION:THIS COURSE HAS BEEN CANCELED UNTIL FURTHER NOTICE. \nColorado Soil and Site Evaluation Course \nThis course is designed to meet the requirements of the Section 43.5.I.2.b of Regulation #43 for a Competent Technician.  Passing the course examination will demonstrate competency in the visual and tactile evaluation of soil.  Certificates of Competency will be provided to participants that pass this exam. \nDay one of the course is primarily classroom instruction on the items noted below\, along with a “hands-on” exercise where participants hand texture pre-determined samples of all soil types.  Day 2 includes a field component\, where participants will learn to apply the site evaluation principles learned from day one. \nDay one includes: \n\nBasic Principles of On-Site Wastewater Treatment (OWTS) siting and design\nRegulation specific requirements for conducting preliminary and field site investigations with “real world” examples\nBasic geology and soil formation processes\nPercolation test methods\nUnited States Department of Agriculture (USDA) soils classification system\nRelationship between soil types and movement & treatment of effluent\nBasics of how to identify limiting layers and high rock content (Type R soils)\nHands-on soil texturing\n\nDay two includes: \n\nPreview of field site\nSite visit and test pit evaluation\nRe-cap of site visit\nReview and Q&A\nExam\n\nUpon successful completion of the course\, you will gain competency in the following activities: \n\nPrinciples of OWTS siting and design\nIdentification of:\n\nsoil types by hand texturing and observation\nSoil structure\nLimiting layers\n\n\nDetermining the most promising location for the soil treatment area infiltrative surface\n\nCertificates of Competency will be provided to participants that pass this exam. \nThe instructors for this course will be:\nWarren Brown\, P.E.\nPublic Health Engineer\nTri County Health Department \nRoy Laws\, P.E.\nJefferson County Public Health\nEnvironmental Health Services Division \nClass will be held Wednesday\, May 13 from 8am-5pm\, and Thursday May 14 from 8am-5pm\nBagels\, doughnuts\, coffee & tea in the morning\, and lunch will be provided. \nTHIS COURSE HAS BEEN CANCELED UNTIL FURTHER NOTICE. Please check the CPOW Website for additional upcoming courses. \nYou must have a current 2020 CPOW membership to receive member pricing.
URL:https://www.cpow.net/event/cpow-soils-course-durango/
LOCATION:Durango Public Library\, Program Room 2\, First Floor\, 1900 E. Third Ave.\, Durango\, CO\, 81301\, United States
ORGANIZER;CN="CPOW":MAILTO:cpow@cpow.net
END:VEVENT
END:VCALENDAR