BEGIN:VCALENDAR
VERSION:2.0
PRODID:-//Colorado Professionals in Onsite Wastewater - ECPv6.15.17.1//NONSGML v1.0//EN
CALSCALE:GREGORIAN
METHOD:PUBLISH
X-WR-CALNAME:Colorado Professionals in Onsite Wastewater
X-ORIGINAL-URL:https://www.cpow.net
X-WR-CALDESC:Events for Colorado Professionals in Onsite Wastewater
REFRESH-INTERVAL;VALUE=DURATION:PT1H
X-Robots-Tag:noindex
X-PUBLISHED-TTL:PT1H
BEGIN:VTIMEZONE
TZID:America/Denver
BEGIN:DAYLIGHT
TZOFFSETFROM:-0700
TZOFFSETTO:-0600
TZNAME:MDT
DTSTART:20130310T090000
END:DAYLIGHT
BEGIN:STANDARD
TZOFFSETFROM:-0600
TZOFFSETTO:-0700
TZNAME:MST
DTSTART:20131103T080000
END:STANDARD
BEGIN:DAYLIGHT
TZOFFSETFROM:-0700
TZOFFSETTO:-0600
TZNAME:MDT
DTSTART:20140309T090000
END:DAYLIGHT
BEGIN:STANDARD
TZOFFSETFROM:-0600
TZOFFSETTO:-0700
TZNAME:MST
DTSTART:20141102T080000
END:STANDARD
BEGIN:DAYLIGHT
TZOFFSETFROM:-0700
TZOFFSETTO:-0600
TZNAME:MDT
DTSTART:20150308T090000
END:DAYLIGHT
BEGIN:STANDARD
TZOFFSETFROM:-0600
TZOFFSETTO:-0700
TZNAME:MST
DTSTART:20151101T080000
END:STANDARD
END:VTIMEZONE
BEGIN:VEVENT
DTSTART;TZID=America/Denver:20140814T080000
DTEND;TZID=America/Denver:20140815T170000
DTSTAMP:20260424T033905
CREATED:20140514T171247Z
LAST-MODIFIED:20150717T082924Z
UID:463-1408003200-1408122000@www.cpow.net
SUMMARY:Soils Class
DESCRIPTION:Colorado Soil and Site Evaluation Course \nLocation: 501 Palmer Street\,Delta\, CO 81416 – Delta County Courthouse Room #234 \nThis course is designed to meet the requirements of the Section 43.5.J.2.c of the newly adopted Regulation #43 for a Competent Technician. \nWe will use class room lecture and field work to learn observation skills for profile holes and using visual and tactile evaluations to identify the soil types and characteristics needed to site and design onsite wastewater treatment systems.  These methods are in accordance with the USDA methodology that has been used across the county. \n\nIdentify soil types by hand texturing and observation\nIdentify presence or absence of soil structure\nIdentify grade of soil structure\nRecognize evidence of highest season water surface\nIdentify layers and interfaces that will interfere with effluent movement\nDetermine the most promising depth for infiltrative surface of OWTS and for percolation tests\nUnderstand basic principles of OWTS siting and design\n\nPassing the course examination will demonstrate competency in the visual and tactile evaluation of soil. \nCertificates of Competency will be provided to participants that pass this exam. \nThe instructors for this course will be:\nWarren Brown\, P.E.\nPublic Health Engineer\nTri County Health Department \nRoy Laws\, P.E.\nJefferson County Public Health\nEnvironmental Health Services Division \n\nClass will be held Thursday\, August 14 from 8am-5pm\, and Friday August 15 from 8am-5pm\n Bagels\, doughnuts\, coffee & tea in the morning and afternoon snacks will be provided.  Lunch will be on your own\nA tentative Soils Class is scheduled for Pueblo County for October 16-17. We will have more information as it becomes available.[gravityform id=”8″ name=”CPOW Soils Training”]\n\n\nCertified Members\n[gravityview id=’762′]
URL:https://www.cpow.net/event/soils-class/
LOCATION:Delta County Courthouse Room #234\, 501 Palmer Street\, Delta\, 81416
ORGANIZER;CN="CPOW":MAILTO:cpow@cpow.net
GEO:38.7400247;-108.0728109
X-APPLE-STRUCTURED-LOCATION;VALUE=URI;X-ADDRESS=Delta County Courthouse Room #234 501 Palmer Street Delta 81416;X-APPLE-RADIUS=500;X-TITLE=501 Palmer Street:geo:-108.0728109,38.7400247
END:VEVENT
END:VCALENDAR