BEGIN:VCALENDAR
VERSION:2.0
PRODID:-//Colorado Professionals in Onsite Wastewater - ECPv6.15.17.1//NONSGML v1.0//EN
CALSCALE:GREGORIAN
METHOD:PUBLISH
X-ORIGINAL-URL:https://www.cpow.net
X-WR-CALDESC:Events for Colorado Professionals in Onsite Wastewater
REFRESH-INTERVAL;VALUE=DURATION:PT1H
X-Robots-Tag:noindex
X-PUBLISHED-TTL:PT1H
BEGIN:VTIMEZONE
TZID:America/Denver
BEGIN:DAYLIGHT
TZOFFSETFROM:-0700
TZOFFSETTO:-0600
TZNAME:MDT
DTSTART:20160313T090000
END:DAYLIGHT
BEGIN:STANDARD
TZOFFSETFROM:-0600
TZOFFSETTO:-0700
TZNAME:MST
DTSTART:20161106T080000
END:STANDARD
BEGIN:DAYLIGHT
TZOFFSETFROM:-0700
TZOFFSETTO:-0600
TZNAME:MDT
DTSTART:20170312T090000
END:DAYLIGHT
BEGIN:STANDARD
TZOFFSETFROM:-0600
TZOFFSETTO:-0700
TZNAME:MST
DTSTART:20171105T080000
END:STANDARD
BEGIN:DAYLIGHT
TZOFFSETFROM:-0700
TZOFFSETTO:-0600
TZNAME:MDT
DTSTART:20180311T090000
END:DAYLIGHT
BEGIN:STANDARD
TZOFFSETFROM:-0600
TZOFFSETTO:-0700
TZNAME:MST
DTSTART:20181104T080000
END:STANDARD
END:VTIMEZONE
BEGIN:VEVENT
DTSTART;TZID=America/Denver:20170317T080000
DTEND;TZID=America/Denver:20170317T170000
DTSTAMP:20260423T202018
CREATED:20161020T201159Z
LAST-MODIFIED:20170314T160811Z
UID:1217-1489737600-1489770000@www.cpow.net
SUMMARY:NAWT OWTS Installer Course 2017
DESCRIPTION:The Installer class is a nationally recognized OWTS class developed to provide training\, testing and certification for individuals who install OWTS systems. The topics covered in this 1-day course are planning and site evaluation; proper installation of tanks and advanced treatment units; using good installation principles for installing below grade\, at-grade and above grade soil treatment areas; proper installation of pump and pump stations; proper installation of different media and media filters. This course has been used as a preparatory course for CIDWT Installers Exam. \nThis class can be used for recertification of any NAWT certification. \nRegister Below or contact Lisa Nicoll at 720-626-8989 or email cpow@nullcpow.net \nYou must have a current CPOW membership to receive member pricing.\nREGISTRATION FOR THIS CLASS IS NOW CLOSED. 
URL:https://www.cpow.net/event/nawt-owts-installer-course-2017/
LOCATION:Boulder County Public Health\, 3450 Broadway\, Health Auditorium\, Boulder\, 80304
ORGANIZER;CN="CPOW":MAILTO:cpow@cpow.net
GEO:40.0454736;-105.2838511
X-APPLE-STRUCTURED-LOCATION;VALUE=URI;X-ADDRESS=Boulder County Public Health 3450 Broadway Health Auditorium Boulder 80304;X-APPLE-RADIUS=500;X-TITLE=3450 Broadway\, Health Auditorium:geo:-105.2838511,40.0454736
END:VEVENT
END:VCALENDAR