BEGIN:VCALENDAR
VERSION:2.0
PRODID:-//Colorado Professionals in Onsite Wastewater - ECPv6.15.17.1//NONSGML v1.0//EN
CALSCALE:GREGORIAN
METHOD:PUBLISH
X-WR-CALNAME:Colorado Professionals in Onsite Wastewater
X-ORIGINAL-URL:https://www.cpow.net
X-WR-CALDESC:Events for Colorado Professionals in Onsite Wastewater
REFRESH-INTERVAL;VALUE=DURATION:PT1H
X-Robots-Tag:noindex
X-PUBLISHED-TTL:PT1H
BEGIN:VTIMEZONE
TZID:America/Denver
BEGIN:DAYLIGHT
TZOFFSETFROM:-0700
TZOFFSETTO:-0600
TZNAME:MDT
DTSTART:20190310T090000
END:DAYLIGHT
BEGIN:STANDARD
TZOFFSETFROM:-0600
TZOFFSETTO:-0700
TZNAME:MST
DTSTART:20191103T080000
END:STANDARD
BEGIN:DAYLIGHT
TZOFFSETFROM:-0700
TZOFFSETTO:-0600
TZNAME:MDT
DTSTART:20200308T090000
END:DAYLIGHT
BEGIN:STANDARD
TZOFFSETFROM:-0600
TZOFFSETTO:-0700
TZNAME:MST
DTSTART:20201101T080000
END:STANDARD
BEGIN:DAYLIGHT
TZOFFSETFROM:-0700
TZOFFSETTO:-0600
TZNAME:MDT
DTSTART:20210314T090000
END:DAYLIGHT
BEGIN:STANDARD
TZOFFSETFROM:-0600
TZOFFSETTO:-0700
TZNAME:MST
DTSTART:20211107T080000
END:STANDARD
END:VTIMEZONE
BEGIN:VEVENT
DTSTART;TZID=America/Denver:20200129T080000
DTEND;TZID=America/Denver:20200130T170000
DTSTAMP:20260424T020331
CREATED:20191114T205251Z
LAST-MODIFIED:20191114T205302Z
UID:2026-1580284800-1580403600@www.cpow.net
SUMMARY:2020 Southwest Onsite Wastewater Conference
DESCRIPTION:Hosted by: Arizona County Driectors of environmental Health Services Association \nUpdate your skills by learning about the changing field of onsite wastewater management.  Hear presentations by specialists in the field from academia\, industry and government.  Visit with manufacturers\, suppliers and other vendors  representing the breadth of onsite practice.  Network with your industry colleagues in a relaxed atmosphere at the Riverside Resort Hotel & Casino on the Colorado River.    \nWho Should Attend?\n\nOnsite Contractors\nSanitarians\nEngineers\nDesigners\nReal Estate Professionals\nStudents in Public Health\, Environmental Science\, Engineering\, Geology and Soil Science\nRegulatory Officials\n\n    \nRegister Now! \nConference Registration Fees include Certification of Attendance for Professional Development or Continuing Education Hours. \n\n\nAttn: NEHA\, AZ & CA – 13.5 Contact Hours Pending Approval \nNEHA Registered Provider \n\n\nWe have a great lineup of speakers with presentations to expand your knowledge of the onsite wastewater field that will rival our 2020 conference.                                   \nRegister online by clicking Register Now!  \nRegister Now! Follow these links to Register Vendors
URL:https://www.cpow.net/event/2020-southwest-onsite-wastewater-conference/
LOCATION:Riverside Rsort Hotel & Casino\, 1650 S. Casino Drive\, Laughlin\, NV\, 89029
ORGANIZER;CN="Arizona County Driectors of Environmental Health Services":MAILTO:brian.knisley@maricopa.gov
END:VEVENT
END:VCALENDAR