BEGIN:VCALENDAR
VERSION:2.0
PRODID:-//Colorado Professionals in Onsite Wastewater - ECPv6.15.17.1//NONSGML v1.0//EN
CALSCALE:GREGORIAN
METHOD:PUBLISH
X-ORIGINAL-URL:https://www.cpow.net
X-WR-CALDESC:Events for Colorado Professionals in Onsite Wastewater
REFRESH-INTERVAL;VALUE=DURATION:PT1H
X-Robots-Tag:noindex
X-PUBLISHED-TTL:PT1H
BEGIN:VTIMEZONE
TZID:America/Denver
BEGIN:DAYLIGHT
TZOFFSETFROM:-0700
TZOFFSETTO:-0600
TZNAME:MDT
DTSTART:20250309T090000
END:DAYLIGHT
BEGIN:STANDARD
TZOFFSETFROM:-0600
TZOFFSETTO:-0700
TZNAME:MST
DTSTART:20251102T080000
END:STANDARD
BEGIN:DAYLIGHT
TZOFFSETFROM:-0700
TZOFFSETTO:-0600
TZNAME:MDT
DTSTART:20260308T090000
END:DAYLIGHT
BEGIN:STANDARD
TZOFFSETFROM:-0600
TZOFFSETTO:-0700
TZNAME:MST
DTSTART:20261101T080000
END:STANDARD
BEGIN:DAYLIGHT
TZOFFSETFROM:-0700
TZOFFSETTO:-0600
TZNAME:MDT
DTSTART:20270314T090000
END:DAYLIGHT
BEGIN:STANDARD
TZOFFSETFROM:-0600
TZOFFSETTO:-0700
TZNAME:MST
DTSTART:20271107T080000
END:STANDARD
END:VTIMEZONE
BEGIN:VEVENT
DTSTART;TZID=America/Denver:20260430T080000
DTEND;TZID=America/Denver:20260501T170000
DTSTAMP:20260423T161553
CREATED:20201103T140218Z
LAST-MODIFIED:20260302T181622Z
UID:2382-1777536000-1777654800@www.cpow.net
SUMMARY:NAWT Inspector Course – April 2026 (Online & Arapahoe County)
DESCRIPTION:THIS COURSE IS BEING HELD BOTH IN-PERSON AND ONLINE THROUGH ZOOM.\n*For those attending Online\, a webcam is required for taking the Online Exam at the end of the 2-day course for Certification.*\n \nThe NAWT OWTS Inspection Standards class is a nationally recognized Onsite Wastewater Treatment System (OWTS) class developed to provide training\, education\, testing and certification for individuals conducting OWTS inspections for property transfers\, system functionality and county or homeowner association requirements. The course covers the newly adopted NAWT OWTS Inspection Standards and helps guide the inspector through the inspection steps with the goal of arriving at a conclusion for each component and an overall conclusion for the system. The NAWT level of inspection is the Operations Level. All parts and components are assessed\, and their condition and deficiencies are identified. This is the generally accepted course that state and county health departments use for their certification requirements for individuals operating as OWTS Inspectors. \n*Starting in January 2026\, all NAWT Inspector Certificate holders will be required to re-take the 2-day Course and Exam for Certification\, to cover the new materials and standards. Individuals that received their initial Certification or renewed their existing Certificate in 2025 will have until January 2028 to complete the new course materials and re-take the exam for Certification* \n  \nInstructors: \n\nKate Carney\, PE – Church Onsite Wastewater Consultants\nBill Tatro – Snowbridge\, Inc\n\nCourse Date: \n\nApril 30 – May 1 \, 2026\n\nCourse Locations: \n\nOnline via ZOOM\nArapahoe County Public Health – Altura Plaza – Colorado Room\n\n15400 E 14th Pl\, Aurora\, CO 80011\n\n\n\n\nONLINE COURSE PRICING: \nCPOW Member 1-day Attendance: $250 / NON-Member 1-Day Attendance: $350\nCourse Attendance on Thursday\, April 30th for 8 CEU hours\nIncludes one (1) NAWT or CPOW Certificate Renewal\nAdditional requested Certificate Renewals will be invoiced at $100/ea after the class\n \nCPOW Member 2-day Attendance: $350 / Non-Member 2-day Attendance: $450\nIncludes one (1) NAWT Inspector Certificate & two (2) Course Manuals provided by NAWT\nAdditional requested Certificate Renewals will be invoiced at $100/ea after the class \nRegistration is now available for the course. Please click HERE to access the ONLINE Course Registration.\n*REGISTRATION FOR THE ONLINE OPTION WILL CLOSE AT 5:00PM MDT ON TUESDAY\, APRIL 28TH\, 2026\nOR WHEN THE ONLINE COURSE REACHES 100 PARTICIPANTS\, WHICHEVER OCCURS FIRST*\n \n\nIN-PERSON COURSE PRICING: \nCPOW Member 1-day Attendance: $350 / NON-Member 1-Day Attendance: $450\nCourse Attendance on Thursday\, April\, 30th for 8 CEU hours\nIncludes one (1) NAWT or CPOW Certificate Renewal\nAdditional requested Certificate Renewals will be invoiced at $100/ea after the class\n \nCPOW Member 2-day Attendance: $425 / Non-Member 2-day Attendance: $525\nIncludes one (1) NAWT Inspector Certificate & two (2) Course Manuals provided by NAWT\nAdditional requested Certificate Renewals will be invoiced at $100/ea after the class \nPRINTED PRESENTATION SLIDES: $15 option at the time of registration for In-person Courses ONLY \nRegistration is now available for the course. Please click HERE to access the IN-PERSON Course Registration.\n*REGISTRATION FOR THE IN-PERSON OPTION WILL CLOSE AT 5:00PM MDT ON MONDAY\, APRIL 27TH OR\nWHEN THE COURSE REACHES CAPACITY\, WHICHEVER OCCURS FIRST* \n  \nYou must have a 2026 CPOW membership to receive member pricing.\n2026 Memberships can be purchased/renewed at the time of registration.\nPlease note that CPOW Memberships are valid until Dec 31 of the calendar year for which they are purchased and need to be\nrenewed annually to take advantage of Member Pricing on CPOW Courses and Events. \n  \nYou can also email Lisa Nicoll at cpow@nullcpow.net and include the registrant(s) Name\, any applicable Company Name\, Mailing Address\, and Phone Number. \n*NAWT Certificates require 8 CEU hours every 2 years to remain current.\nNAWT CEU hours can be obtained by attending any NAWT-approved course or event.* \nCPOW EXAM POLICY: \n\nIf the exam is not passed during the first attempt\, a second attempt will be allowed\, and will be scheduled after the first attempt. If the second attempt does not result in a passing score\, or if the rescheduled exam date is missed with no notification\, the participant will need to re-take the full course again\, but at a discounted rate due to the certification being paid for with the first registration. The registration for the next class will provide for two additional attempts to take the exam to obtain a passing grade. Exam retakes must be scheduled and taken within 90 days of the end of the course before the exam retake option is void. 
URL:https://www.cpow.net/event/nawt-inspector-course-apr2026/
LOCATION:Online
CATEGORIES:Training
ORGANIZER;CN="CPOW":MAILTO:cpow@cpow.net
END:VEVENT
END:VCALENDAR