BEGIN:VCALENDAR
VERSION:2.0
PRODID:-//Colorado Professionals in Onsite Wastewater - ECPv6.15.17.1//NONSGML v1.0//EN
CALSCALE:GREGORIAN
METHOD:PUBLISH
X-WR-CALNAME:Colorado Professionals in Onsite Wastewater
X-ORIGINAL-URL:https://www.cpow.net
X-WR-CALDESC:Events for Colorado Professionals in Onsite Wastewater
REFRESH-INTERVAL;VALUE=DURATION:PT1H
X-Robots-Tag:noindex
X-PUBLISHED-TTL:PT1H
BEGIN:VTIMEZONE
TZID:America/Denver
BEGIN:DAYLIGHT
TZOFFSETFROM:-0700
TZOFFSETTO:-0600
TZNAME:MDT
DTSTART:20240310T090000
END:DAYLIGHT
BEGIN:STANDARD
TZOFFSETFROM:-0600
TZOFFSETTO:-0700
TZNAME:MST
DTSTART:20241103T080000
END:STANDARD
BEGIN:DAYLIGHT
TZOFFSETFROM:-0700
TZOFFSETTO:-0600
TZNAME:MDT
DTSTART:20250309T090000
END:DAYLIGHT
BEGIN:STANDARD
TZOFFSETFROM:-0600
TZOFFSETTO:-0700
TZNAME:MST
DTSTART:20251102T080000
END:STANDARD
BEGIN:DAYLIGHT
TZOFFSETFROM:-0700
TZOFFSETTO:-0600
TZNAME:MDT
DTSTART:20260308T090000
END:DAYLIGHT
BEGIN:STANDARD
TZOFFSETFROM:-0600
TZOFFSETTO:-0700
TZNAME:MST
DTSTART:20261101T080000
END:STANDARD
END:VTIMEZONE
BEGIN:VEVENT
DTSTART;TZID=America/Denver:20250508T080000
DTEND;TZID=America/Denver:20250508T170000
DTSTAMP:20260424T095325
CREATED:20220418T152737Z
LAST-MODIFIED:20250402T171242Z
UID:3193-1746691200-1746723600@www.cpow.net
SUMMARY:NAWT Installer 2 Course - May 2025 (Fairplay\, CO & Online)
DESCRIPTION:*WE ARE PROVIDING BOTH AN IN-PERSON AND ONLINE OPTION TO TAKE THIS COURSE* \nThe Installer 2 session is a continuation from Installer 1 with more advanced subject matter for the OWTS Installer. Beginning with an overview of site and soils analysis to help understand the complexity of the soil treatment area as an OWTS component\, the course material will look deeper into the techniques and materials necessary for OWTS Installation. The course will also take a broader look at dosing and aerobic systems\, their components\, and how to ensure proper installation and dosing of these types of systems. In addition\, sections will cover the complex components and installation techniques for drip irrigation systems. Completion of the course will provide participants with the knowledge of what is involved be a professional and competent OWTS installer. \n*THE NAWT INSTALLER 1 COURSE IS A PREREQUSITE TO THE NAWT INSTALLER 2 COURSE* \nYou must have the NAWT Installer 1 Certificate or the previous NAWT Installer Certificate in order to qualify for Certification in Installer 2. \n  \nIN-PERSON Course Cost: \n1-Day Attendance: $285 for CPOW Members & $385 for Non-Members. \n  \nIn-Person Location: \nPark County Health Department – Board Room \n856 Castello Ave \nFairplay\, CO 80440 \n  \nONLINE Course Cost: \n1-Day Attendance : $195 for CPOW Members & $295 for Non-Members \n*The Online option is provided through Zoom.  \n  \n*Please note that each registration includes ONE (1) NAWT Certificate or Renewal\, and any additional requested renewals are $100/each. \nYou must have a 2025 CPOW membership to receive member pricing. Please note that CPOW Memberships are valid for the calendar year they are purchased and do need to be renewed annually to take advantage of Member Pricing on CPOW Courses and Events.  \n  \nRegistration is now available for the course: \nFor the IN-PERSON Course Registration\, please click HERE to register. \n*REGISTRATION FOR THE IN-PERSON OPTION WILL CLOSE AT 5:00PM MDT ON MONDAY\, MAY 5TH OR WHEN THE COURSE REACHES CAPACITY\, WHICHEVER OCCURS FIRST* \n  \nFor the ONLINE Course Registration\, please click HERE to register. \n*REGISTRATION FOR THE ONLINE OPTION WILL CLOSE AT 5:00PM MDT ON TUESDAY\, MAY 6TH* \n  \nYou can also email Lisa Nicoll at cpow@nullcpow.net and include the registrant(s) Name\, any applicable Company Name\, Mailing Address\, and Phone Number. \n  \n*NAWT Certificates require 8 CEU hours every 2 years to remain current. NAWT CEU hours can be obtained by attending any NAWT-approved course or event.* \n  \nCPOW EXAM POLICY: \n\nIf the exam is not passed during the first attempt\, a second attempt will be allowed\, and will be scheduled after the first attempt. If the second attempt does not result in a passing score\, or if the rescheduled exam date is missed with no notification\, the participant will need to re-take the full course again\, but at the Audit/Observe rate ($210) due to the certification being paid for with the first registration. The registration for the next class will provide for two additional attempts to take the exam to obtain a passing grade.
URL:https://www.cpow.net/event/nawt-installer2-course-may-2025/
LOCATION:Park County Health Department – Board Room\, 856 Castello Ave\, Fairplay\, CO\, 80440\, United States
CATEGORIES:Training
ORGANIZER;CN="CPOW":MAILTO:cpow@cpow.net
END:VEVENT
BEGIN:VEVENT
DTSTART;TZID=America/Denver:20250529T080000
DTEND;TZID=America/Denver:20250530T170000
DTSTAMP:20260424T095325
CREATED:20211026T163105Z
LAST-MODIFIED:20250516T165619Z
UID:3218-1748505600-1748624400@www.cpow.net
SUMMARY:CPOW Soils Course - May 2025 (Delta\, CO)
DESCRIPTION:Colorado Soil and Site Evaluation Course \nThis course is designed to meet the requirements of the Section 43.5.I.2.b of Regulation #43 for a Competent Technician.  Passing the course examination will demonstrate competency in the visual and tactile evaluation of soil.  Certificates of Competency will be provided to participants that pass this exam. \n*THIS COURSE IS A PRE-REQUISITE FOR THE CPOW DESIGN COURSE*  If you are planning to attend the CPOW Design Course\, you will need to have previously attended the CPOW Soils Course and obtained the Certificate of Competency from the class. \n  \nBelow is the description of the course as it has been presented in the past. Changes to the schedule for our upcoming 2025 courses are possible. *PLEASE NOTE THAT THE MATERIAL COVERED FOR THIS CLASS DOES NOT COVER ANY INSTRUCTION IN SEPTIC DESIGN* \nDay one of the course is primarily classroom instruction on the items noted below\, along with a “hands-on” exercise where participants hand texture pre-determined samples of all soil types.  Day 2 includes a field component\, where participants will learn to apply the site evaluation principles learned from day one. \nDay One includes: \n\nBasic Principles of On-Site Wastewater Treatment (OWTS) siting and design\nRegulation specific requirements for conducting preliminary and field site investigations with “real world” examples\nBasic geology and soil formation processes\nPercolation test methods\nUnited States Department of Agriculture (USDA) soils classification system\nRelationship between soil types and movement & treatment of effluent\nBasics of how to identify limiting layers and high rock content (Type R soils)\nHands-on soil texturing\n\nDay Two includes: \n\nPreview of field site\nSite visit and test pit evaluation\nRe-cap of site visit\nReview and Q&A\nExam\n\nUpon successful completion of the course\, you will gain competency in the following activities: \n\nPrinciples of OWTS siting and design\nIdentification of:\n\nsoil types by hand texturing and observation\nSoil structure\nLimiting layers\n\n\nDetermining the most promising location for the soil treatment area infiltrative surface\n\nCertificates of Competency will be provided after completion of the course to participants that pass the exam at the end of Day 2. *CPOW Soils Certificates of Competency do NOT currently require CEU hours for renewal to remain valid* \n  \nCOURSE LOCATION:\nDelta County\nBoard of Commissioners Meeting Room\n560 Dodge St\, Delta\, CO 81416 \n  \nCourse Instructors: \nRoy Laws\, P.E.\nJefferson County Public Health – Retired\nEnvironmental Health Services Division \nDiana Rashash\nArapahoe County Public Health\nSenior Water Quality Specialist \n  \nCost: \n2-day Attendance (Full Certification): $360 for CPOW members and $460 for Non-Members. \n1-Day Attendance (Certificate Renewal): $285 for CPOW Members & $385 for Non-Members. \n*A 1-day Attendance at this course qualifies for 8 CEU hours towards any current NAWT Certificate. Please note that each registration includes ONE (1) Certificate of Competency OR NAWT Renewal\, and any additional requested NAWT renewals are $75/each. \nYou must have a 2025 CPOW membership to receive member pricing. \n  \n  \n**THE COURSE HAS REACHED CAPACITY AND REGISTRATION IS NOW CLOSED** \nIf you would like to get added to the WAITLIST for the course\, please email Lisa Nicoll at cpow@nullcpow.net and include your Name\, any applicable Company Name\, Mailing Address\, and Phone Number. You can also check out our next available Soils Course in August 2025. \n  \n*The CPOW Soils Course can be used to renew any current NAWT Certificate. NAWT Certificates require 8 CEU hours every 2 years to remain current.* \n  \nCPOW EXAM POLICY: \n\nIf the exam is not passed during the first attempt\, a second attempt will be allowed\, and will be scheduled after the first attempt. If the second attempt does not result in a passing score\, or if the rescheduled exam date is missed with no notification\, the participant will need to re-take the full course again\, but at the Audit/Observe rate ($210) due to the certification being paid for with the first registration. The registration for the next class will provide for two additional attempts to take the exam to obtain a passing grade.
URL:https://www.cpow.net/event/cpow-soils-course-may-2025/
LOCATION:Board of County Commissioners – Delta County\, 560 Dodge St\, Delta\, CO\, 81416\, United States
CATEGORIES:Training
ORGANIZER;CN="CPOW":MAILTO:cpow@cpow.net
END:VEVENT
END:VCALENDAR