BEGIN:VCALENDAR
VERSION:2.0
PRODID:-//Colorado Professionals in Onsite Wastewater - ECPv6.15.17.1//NONSGML v1.0//EN
CALSCALE:GREGORIAN
METHOD:PUBLISH
X-WR-CALNAME:Colorado Professionals in Onsite Wastewater
X-ORIGINAL-URL:https://www.cpow.net
X-WR-CALDESC:Events for Colorado Professionals in Onsite Wastewater
REFRESH-INTERVAL;VALUE=DURATION:PT1H
X-Robots-Tag:noindex
X-PUBLISHED-TTL:PT1H
BEGIN:VTIMEZONE
TZID:America/Denver
BEGIN:DAYLIGHT
TZOFFSETFROM:-0700
TZOFFSETTO:-0600
TZNAME:MDT
DTSTART:20210314T090000
END:DAYLIGHT
BEGIN:STANDARD
TZOFFSETFROM:-0600
TZOFFSETTO:-0700
TZNAME:MST
DTSTART:20211107T080000
END:STANDARD
BEGIN:DAYLIGHT
TZOFFSETFROM:-0700
TZOFFSETTO:-0600
TZNAME:MDT
DTSTART:20220313T090000
END:DAYLIGHT
BEGIN:STANDARD
TZOFFSETFROM:-0600
TZOFFSETTO:-0700
TZNAME:MST
DTSTART:20221106T080000
END:STANDARD
BEGIN:DAYLIGHT
TZOFFSETFROM:-0700
TZOFFSETTO:-0600
TZNAME:MDT
DTSTART:20230312T090000
END:DAYLIGHT
BEGIN:STANDARD
TZOFFSETFROM:-0600
TZOFFSETTO:-0700
TZNAME:MST
DTSTART:20231105T080000
END:STANDARD
BEGIN:DAYLIGHT
TZOFFSETFROM:-0700
TZOFFSETTO:-0600
TZNAME:MDT
DTSTART:20240310T090000
END:DAYLIGHT
BEGIN:STANDARD
TZOFFSETFROM:-0600
TZOFFSETTO:-0700
TZNAME:MST
DTSTART:20241103T080000
END:STANDARD
BEGIN:DAYLIGHT
TZOFFSETFROM:-0700
TZOFFSETTO:-0600
TZNAME:MDT
DTSTART:20250309T090000
END:DAYLIGHT
BEGIN:STANDARD
TZOFFSETFROM:-0600
TZOFFSETTO:-0700
TZNAME:MST
DTSTART:20251102T080000
END:STANDARD
END:VTIMEZONE
BEGIN:VEVENT
DTSTART;TZID=America/Denver:20240920T090000
DTEND;TZID=America/Denver:20240920T163000
DTSTAMP:20260423T210734
CREATED:20220427T223321Z
LAST-MODIFIED:20240717T163619Z
UID:3661-1726822800-1726849800@www.cpow.net
SUMMARY:CPOW Summer Golf Event - September 2024
DESCRIPTION:We are pleased to announce our Third Annual CPOW Golf Event! \nCPOW is excited to be hosting this fall networking event again\, and we are returning to the wonderful facilities at the Meadows Golf Course in Littleton. \nRegistration for the event includes 18 holes of golf\, range balls\, cart\, lunch\, and a drink ticket. All proceeds go toward assisting in the funding of our scholarship program. You can arrange your own foursome\, or we will use a survey to place you with a team of varying skill levels. \nCOST: $150 per person \nCLICK HERE TO ACCESS THE EVENT REGISTRATION \n*All registrations must be received by September 10th\, 2024. In order for us to ensure that everyone has a great time\, please fill out the survey that will be emailed over after you submit your registration for the event. \nSPONSORSHIP OPPORTUNITIES!\nWe are offering a variety of Sponsorship Opportunities this year\, to fit every budget – \n\nSchwag Bag Sponsorship – $25\n\nYou will be contacted to provide Schwag Bag items prior to the event\n\n\nCourse Signage Sponsorship – $50\n\nA lawn sign with your logo will be displayed on the course during the event\n\n\nScorecard Sponsorship – $100\n\nYour logo will be included on the score cards provided to participants\n\n\nFood & Beverage Sponsorship – $100\n\nYour logo will be displayed during lunch\n\n\nFULL SPONSORSHIP – $250\n\nALL SPONSORSHIP OPTIONS ABOVE INCLUDED\n\n\n\nSponsorships can be selected during the Event Registration Process. *IF YOU ARE INTERESTED SPONSORING THE EVENT BUT ARE UNABLE TO ATTEND\, PLEASE CONTACT LISA NICOLL\, cpow@nullcpow.net\, TO DISCUSS YOUR SPONSORSHIP OPTIONS* \nWe are looking forward to seeing everyone on September 20th!  \nPlease plan to arrive at the course no later than 8:30 am\, so we can ensure the event starts on time (9:00 a.m. tee time).
URL:https://www.cpow.net/event/cpow-summer-golf-scramble/
LOCATION:Meadows Golf Club\, 7007 Meadows Golf Club Dr\, Littleton\, CO\, 80127\, United States
CATEGORIES:Social
ORGANIZER;CN="CPOW":MAILTO:cpow@cpow.net
END:VEVENT
BEGIN:VEVENT
DTSTART;TZID=America/Denver:20240517T090000
DTEND;TZID=America/Denver:20240517T150000
DTSTAMP:20260423T210734
CREATED:20220127T203913Z
LAST-MODIFIED:20240508T145533Z
UID:3438-1715936400-1715958000@www.cpow.net
SUMMARY:CPOW Member Appreciation Day 2024
DESCRIPTION:*THIS IS A FREE EVENT TO ALL CURRENT 2024 CPOW MEMBERS*\nCPOW is pleased to host this Member Appreciation Day with Front Range Precast Concrete in Commerce City! The event will include OWTS presentations and educational events for participants\, along with lunch. \nDATE/TIME:\nFriday\, May 17th\, 2024\n9:00 AM – 3:00 PM \nLOCATION:\nFront Range Precast Concrete\n5901 Dexter St\, Commerce City CO 80022 \nFacilitators\nDr. Sara Heger\n Dr. Sara Heger is a researcher and instructor at the University of Minnesota in the Onsite Sewage Treatment Program where she is faculty in the Water Resources Science program.  Sara is the past president of the National Onsite Wastewater Recycling Association\, the largest organization within the U.S. dedicated to educating and representing members within the onsite and decentralized industry. For over 20 years\, she has been conducting research and providing education and technical assistance to students\, homeowners\, small communities\, onsite professionals\, and local units of government regarding decentralized onsite wastewater treatment.  Sara coordinates the research program at the U of MN with current projects evaluating contaminants of emerging concern and the addition of biochar and iron enhanced sand into septic systems.  Dr. Heger serves on the NSF International Committee on Wastewater Treatment Systems and chairs Minnesota’s SSTS Advisory Committee.  She has a BS in Biosystems & Agricultural Engineering and a MS and PhD in Water Resource Science. \nDoug Jactcko\nDoug Jatcko is an Accredited Rainharvest Professional through the American Rainwater Catchment System Association. He is a former Board Member of Colorado Environmental Health Association\, Colorado Water Well Contractors Association\, and a Charter Member of Colorado Professionals in Onsite Wastewater. He also served as a Supplier/Manufacturer Board Member on National Onsite Wastewater Recycle Association Board of Directors. He was born and raised in Michigan and has a B.S. from Eastern Michigan University. He taught high school before migrating to Colorado in 1970. Doug started a concrete construction company building concrete structures and bike paths. He then became the President of Front Range Precast Concrete\, manufacturer of FLXX® Onsite Wastewater\, FLXX® Rainwater Harvesting\, FLXX® Fire-Foe Equipment and has been an environmental steward for over 48 years in Colorado. As a progressive manufacturer\, he has helped bridge the gap fulfilling the requirements of installers\, engineers\, and regulators. Doug also holds the CIOWT-A Installer’s Credential from the National Environmental Health Association\, attended CIDWT’s ‘Train the Trainer’\, and has been a member of the National Precast Concrete Association since 1986. \nAgenda\n\n9:00 – 9:15: Welcome and Introductions\n9:15 – 10:45: Design and Management Considerations for Septic & Systems Serving Vacation Home Rentals\n\nDr. Sara Heger\n\n\n10:45 – 12:00: Lunch Break & Networking\n12:00 – 1:15: Front Range Tour – Siphon Demonstration & Educational discussion\n\nDoug Jactcko\n\n\n1:15 – 2:45: Inspecting and Troubleshooting Soil Treatment Systems\n\nDr. Sara Heger\n\n\n2:45 – 3:00: Questions and Comments\n\nFront Range Precast Concrete will be providing lunch and drinks to everyone as part of the event. If you are bringing additional people\, please enter the number of extra attendees into the NOTES during registration. \n*ATTENDANCE AT THE EVENT IS WORTH 4.5 CEU HOURS* If you would like a Certificate of Attendance provided after the event\, please mark the corresponding option during registration. \nPlease click HERE to register for this Event.  \n*REGISTRATION FOR THIS EVENT CLOSES AT 4:00PM MDT ON MONDAY\, MAY 13TH*
URL:https://www.cpow.net/event/cpow-member-appreciation-day-2024/
LOCATION:Front Range Precast Concrete\, 5901 Dexter St\, Commerce city\, CO\, 80022\, United States
CATEGORIES:Social
ORGANIZER;CN="CPOW":MAILTO:cpow@cpow.net
GEO:39.8044326;-104.9323816
X-APPLE-STRUCTURED-LOCATION;VALUE=URI;X-ADDRESS=DESCRIPTION:*THIS IS A FREE EVENT TO ALL CURRENT 2024 CPOW MEMBERS*\nCPOW is pleased to host this Member Appreciation Day with Front Range Precast Concrete in Commerce City! The event will include OWTS presentations and educational events for participants along with lunch. \nDATE/TIME:\nFriday May 17th 2024\n9:00 AM – 3:00 PM \n\nFront Range Precast Concrete\n5901 Dexter St Commerce City CO 80022 \nFacilitators\nDr. Sara Heger\n Dr. Sara Heger is a researcher and instructor at the University of Minnesota in the Onsite Sewage Treatment Program where she is faculty in the Water Resources Science program.  Sara is the past president of the National Onsite Wastewater Recycling Association the largest organization within the U.S. dedicated to educating and representing members within the onsite and decentralized industry. For over 20 years she has been conducting research and providing education and technical assistance to students homeowners small communities onsite professionals and local units of government regarding decentralized onsite wastewater treatment.  Sara coordinates the research program at the U of MN with current projects evaluating contaminants of emerging concern and the addition of biochar and iron enhanced sand into septic systems.  Dr. Heger serves on the NSF International Committee on Wastewater Treatment Systems and chairs Minnesota’s SSTS Advisory Committee.  She has a BS in Biosystems & Agricultural Engineering and a MS and PhD in Water Resource Science. \nDoug Jactcko\nDoug Jatcko is an Accredited Rainharvest Professional through the American Rainwater Catchment System Association. He is a former Board Member of Colorado Environmental Health Association Colorado Water Well Contractors Association and a Charter Member of Colorado Professionals in Onsite Wastewater. He also served as a Supplier/Manufacturer Board Member on National Onsite Wastewater Recycle Association Board of Directors. He was born and raised in Michigan and has a B.S. from Eastern Michigan University. He taught high school before migrating to Colorado in 1970. Doug started a concrete construction company building concrete structures and bike paths. He then became the President of Front Range Precast Concrete manufacturer of FLXX® Onsite Wastewater FLXX® Rainwater Harvesting FLXX® Fire-Foe Equipment and has been an environmental steward for over 48 years in Colorado. As a progressive manufacturer he has helped bridge the gap fulfilling the requirements of installers engineers and regulators. Doug also holds the CIOWT-A Installer’s Credential from the National Environmental Health Association attended CIDWT’s ‘Train the Trainer’ and has been a member of the National Precast Concrete Association since 1986. \nAgenda\n\n9:00 – 9:15: Welcome and Introductions\n9:15 – 10:45: Design and Management Considerations for Septic & Systems Serving Vacation Home Rentals\n\nDr. Sara Heger\n\n\n10:45 – 12:00: Lunch Break & Networking\n12:00 – 1:15: Front Range Tour – Siphon Demonstration & Educational discussion\n\nDoug Jactcko\n\n\n1:15 – 2:45: Inspecting and Troubleshooting Soil Treatment Systems\n\nDr. Sara Heger\n\n\n2:45 – 3:00: Questions and Comments\n\nFront Range Precast Concrete will be providing lunch and drinks to everyone as part of the event. If you are bringing additional people please enter the number of extra attendees into the NOTES during registration. \n*ATTENDANCE AT THE EVENT IS WORTH 4.5 CEU HOURS* If you would like a Certificate of Attendance provided after the event please mark the corresponding option during registration. \nPlease click HERE to register for this Event.  \n*REGISTRATION FOR THIS EVENT CLOSES AT 4:00PM MDT ON MONDAY MAY 13TH*;X-APPLE-RADIUS=500;X-TITLE=5901 Dexter St:geo:-104.9323816,39.8044326
END:VEVENT
BEGIN:VEVENT
DTSTART;TZID=America/Denver:20220513T160000
DTEND;TZID=America/Denver:20220513T190000
DTSTAMP:20260423T210734
CREATED:20220426T151859Z
LAST-MODIFIED:20220427T223017Z
UID:3642-1652457600-1652468400@www.cpow.net
SUMMARY:Member Happy Hour at the Lariat Lodge
DESCRIPTION:Welcome the summer season with your friends and colleagues with a happy hour at the Lariat Lodge. Our members deserve a chance to kick back and socialize before the busiest time of year overwhelms. Join at the Lariat Lodge on Friday\, May 13 beginning at 4:00 p.m. We’ve reserved separate event space and bar space and CPOW will provide heavy apps and good company. \nPlease let us know you’ll probably come. This is not a formal RSVP; simply a way for us to ensure we’re planning appropriately. \nRSVP here \nAddress:\n27618 Fireweed Dr\nEvergreen\, CO 80439
URL:https://www.cpow.net/event/member-happy-hour-at-the-lariat-lodge/
CATEGORIES:Social
END:VEVENT
END:VCALENDAR